BEGIN:VCALENDAR
VERSION:2.0
PRODID:-//HeadQuarters - ECPv6.15.1.1//NONSGML v1.0//EN
CALSCALE:GREGORIAN
METHOD:PUBLISH
X-WR-CALNAME:HeadQuarters
X-ORIGINAL-URL:https://headq.org
X-WR-CALDESC:Events for HeadQuarters
REFRESH-INTERVAL;VALUE=DURATION:PT1H
X-Robots-Tag:noindex
X-PUBLISHED-TTL:PT1H
BEGIN:VTIMEZONE
TZID:America/Denver
BEGIN:DAYLIGHT
TZOFFSETFROM:-0700
TZOFFSETTO:-0600
TZNAME:MDT
DTSTART:20240310T090000
END:DAYLIGHT
BEGIN:STANDARD
TZOFFSETFROM:-0600
TZOFFSETTO:-0700
TZNAME:MST
DTSTART:20241103T080000
END:STANDARD
END:VTIMEZONE
BEGIN:VEVENT
DTSTART;TZID=America/Denver:20240927T090000
DTEND;TZID=America/Denver:20241228T110000
DTSTAMP:20260425T204036
CREATED:20240923T175222Z
LAST-MODIFIED:20240923T175222Z
UID:10002157-1727427600-1735383600@headq.org
SUMMARY:Grupo de apoyo para el duelo
DESCRIPTION:GRUPO DE APOYO ONLINE PARA DUELO Y PERDIDAS. Español. Viernes 9am-11 am. Gratuito\, financiado por Pathfinders. Llame al 970-924-0532 para mas información.
URL:https://headq.org/event/grupo-de-apoyo-para-el-duelo/
ATTACH;FMTTYPE=image/jpeg:https://headq.org/wp-content/uploads/2024/09/flyer-duelo-jpg.jpg
ORGANIZER;CN="Delfina Huergo":MAILTO:delfinahuergolpc@gmail.com
END:VEVENT
BEGIN:VEVENT
DTSTART;TZID=America/Denver:20241009T173000
DTEND;TZID=America/Denver:20241009T190000
DTSTAMP:20260425T204036
CREATED:20241002T170417Z
LAST-MODIFIED:20241002T170418Z
UID:10002427-1728495000-1728500400@headq.org
SUMMARY:Provider Mixer
DESCRIPTION:Join us for a casual get-together where newer mental health providers (including those new to the valley) can meet each other\, and seasoned clinicians can connect with these fresh faces in the field. We will also  welcome students who are on the path to becoming local mental health providers. \nPlease bring a light app if you can. Non-alcoholic beverages will be provided.
URL:https://headq.org/event/provider-mixer-3/
LOCATION:HeadQuarters\, 23400 Two Rivers Rd. #46\, Basalt\, CO\, 81621
CATEGORIES:HeadQuarters Event
ATTACH;FMTTYPE=image/jpeg:https://headq.org/wp-content/uploads/2024/10/HQ-82-scaled.jpg
END:VEVENT
END:VCALENDAR