BEGIN:VCALENDAR
VERSION:2.0
PRODID:-//HeadQuarters - ECPv6.15.1.1//NONSGML v1.0//EN
CALSCALE:GREGORIAN
METHOD:PUBLISH
X-WR-CALNAME:HeadQuarters
X-ORIGINAL-URL:https://headq.org
X-WR-CALDESC:Events for HeadQuarters
REFRESH-INTERVAL;VALUE=DURATION:PT1H
X-Robots-Tag:noindex
X-PUBLISHED-TTL:PT1H
BEGIN:VTIMEZONE
TZID:America/Denver
BEGIN:DAYLIGHT
TZOFFSETFROM:-0700
TZOFFSETTO:-0600
TZNAME:MDT
DTSTART:20240310T090000
END:DAYLIGHT
BEGIN:STANDARD
TZOFFSETFROM:-0600
TZOFFSETTO:-0700
TZNAME:MST
DTSTART:20241103T080000
END:STANDARD
END:VTIMEZONE
BEGIN:VTIMEZONE
TZID:UTC
BEGIN:STANDARD
TZOFFSETFROM:+0000
TZOFFSETTO:+0000
TZNAME:UTC
DTSTART:20240101T000000
END:STANDARD
END:VTIMEZONE
BEGIN:VEVENT
DTSTART;TZID=America/Denver:20240927T090000
DTEND;TZID=America/Denver:20241228T110000
DTSTAMP:20260425T082103
CREATED:20240923T175222Z
LAST-MODIFIED:20240923T175222Z
UID:10002157-1727427600-1735383600@headq.org
SUMMARY:Grupo de apoyo para el duelo
DESCRIPTION:GRUPO DE APOYO ONLINE PARA DUELO Y PERDIDAS. Español. Viernes 9am-11 am. Gratuito\, financiado por Pathfinders. Llame al 970-924-0532 para mas información.
URL:https://headq.org/event/grupo-de-apoyo-para-el-duelo/
ATTACH;FMTTYPE=image/jpeg:https://headq.org/wp-content/uploads/2024/09/flyer-duelo-jpg.jpg
ORGANIZER;CN="Delfina Huergo":MAILTO:delfinahuergolpc@gmail.com
END:VEVENT
BEGIN:VEVENT
DTSTART;TZID=UTC:20241105T080000
DTEND;TZID=UTC:20241105T090000
DTSTAMP:20260425T082103
CREATED:20240215T010048Z
LAST-MODIFIED:20240726T220419Z
UID:10000352-1730793600-1730797200@headq.org
SUMMARY:Yoga for People in Recovery
DESCRIPTION:Yoga on the path of discovery in recovery\, taught by Cari Eisensen (Friday evenings)\, Jess Jacobson (Friday evenings)\, and Davis Cowles (Tuesday mornings).
URL:https://headq.org/event/yoga-for-people-in-recovery/2024-11-05/
LOCATION:The Meeting Place (Carbondale)
CATEGORIES:Community Event
ATTACH;FMTTYPE=image/jpeg:https://headq.org/wp-content/uploads/2024/02/Yoga_Poster_20240130_141417_0000.jpg
END:VEVENT
BEGIN:VEVENT
DTSTART;TZID=America/Denver:20241105T083000
DTEND;TZID=America/Denver:20241105T093000
DTSTAMP:20260425T082103
CREATED:20240305T185429Z
LAST-MODIFIED:20240726T220456Z
UID:10000770-1730795400-1730799000@headq.org
SUMMARY:Meditation - The Gallery Zendo at the Aspen Chapel
DESCRIPTION:A weekly meditation class with Nicholas Vesey\, with instruction in the Zen Tradition.
URL:https://headq.org/event/meditation-the-gallery-zendo-at-the-aspen-chapel/2024-11-05/
LOCATION:Aspen Chapel\, 77 Meadowood Drive\, Aspen\, CO\, 81611
CATEGORIES:Community Event
ATTACH;FMTTYPE=image/png:https://headq.org/wp-content/uploads/2024/02/Meditation-Ad.png
END:VEVENT
BEGIN:VEVENT
DTSTART;TZID=America/Denver:20241105T083000
DTEND;TZID=America/Denver:20241105T213000
DTSTAMP:20260425T082103
CREATED:20240305T185458Z
LAST-MODIFIED:20240726T220332Z
UID:10000711-1730795400-1730842200@headq.org
SUMMARY:Developing Consciousness
DESCRIPTION:We can only understand things we are conscious of.\nDogs hear more\, and cats see more\, so it makes sense that there is more.\nThis eight-week course is about what that more might be. It is presented by Nicholas Vesey\, minister at Aspen Chapel and is an introduction to spirituality from a mystical perspective drawing on modern consciousness-raising techniques\, as well as the wisdom of the Christian Mystics and others\, the course aims to facilitate an experience that everyone can contribute to and draw knowledge from.
URL:https://headq.org/event/developing-consciousness/2024-11-05/
LOCATION:Aspen Chapel\, 77 Meadowood Drive\, Aspen\, CO\, 81611
CATEGORIES:Community Event
ATTACH;FMTTYPE=image/png:https://headq.org/wp-content/uploads/2024/02/DC-ad.png
END:VEVENT
BEGIN:VEVENT
DTSTART;TZID=America/Denver:20241105T113000
DTEND;TZID=America/Denver:20241105T123000
DTSTAMP:20260425T082103
CREATED:20240305T190037Z
LAST-MODIFIED:20240726T215951Z
UID:10001135-1730806200-1730809800@headq.org
SUMMARY:Hospitality Matters
DESCRIPTION:
URL:https://headq.org/event/hospitality-matters/2024-11-05/
LOCATION:Hooch\, 301 East Hopkins Ave\, Aspen\, CO\, 81611\, United States
CATEGORIES:Community Event
ATTACH;FMTTYPE=application/pdf:https://headq.org/wp-content/uploads/2024/02/HM-Flyer-1.0-.pdf
END:VEVENT
BEGIN:VEVENT
DTSTART;TZID=America/Denver:20241105T174500
DTEND;TZID=America/Denver:20241105T191500
DTSTAMP:20260425T082103
CREATED:20241002T172116Z
LAST-MODIFIED:20241002T220518Z
UID:10002695-1730828700-1730834100@headq.org
SUMMARY:Sri Vidya Tantra Yoga & Meditation Class
DESCRIPTION:Taught by the Mother-Daughter Team\, Mimi Hauenstein and Mary Cate Hauenstein \nExperience a transformative yoga and meditation class rooted in the ancient Sri Vidya Tantra yoga lineage. Led by the mother-daughter duo\, Mimi and Mary Cate\, this class takes place in the serene golden light of the Aspen Chapel sanctuary\, creating a peaceful and sacred atmosphere. Suitable for all levels\, it’s a unique opportunity to deepen your connection to yourself through the timeless wisdom of Sri Vidya Tantra. \nAll props are provided\, all are welcome.\n$10 Suggested Donation
URL:https://headq.org/event/sri-vidya-tantra-yoga-meditation-class/2024-11-05/
LOCATION:Aspen Chapel\, 77 Meadowood Drive\, Aspen\, CO\, 81611
CATEGORIES:Community Event
ATTACH;FMTTYPE=image/jpeg:https://headq.org/wp-content/uploads/2024/09/Chapel-Meditation-scaled.jpg
END:VEVENT
BEGIN:VEVENT
DTSTART;TZID=America/Denver:20241105T183000
DTEND;TZID=America/Denver:20241105T200000
DTSTAMP:20260425T082103
CREATED:20241002T164426Z
LAST-MODIFIED:20241028T205500Z
UID:10002164-1730831400-1730836800@headq.org
SUMMARY:Men of Depth - Fall 2024
DESCRIPTION:Men of Depth is a group for men intent upon leaving the world better than we found it. In a container of trust and challenge\, we help each other align with our authenticity\, purpose\, and service. \nIn Men of Depth\, you will… \n– Be called in\, called forth\, challenged\, and supported by a group of quality men. \n– Be held to a high standard of intention\, communication\, and follow-through. \n– Practice & sharpen your communication and emotional regulation skills. \n– Receive guidance and accountability for discovering and aligning with your core values. \n– Increase your capacity to focus on what matters most in life. \n– Learn to connect to the intelligence of your body and intuition.
URL:https://headq.org/event/men-of-depth-fall-2024/2024-11-05/
LOCATION:Ripple Effect Training\, 2551 Dolores Way\, Carbondale\, CO\, 81623
CATEGORIES:Community Event
ATTACH;FMTTYPE=image/png:https://headq.org/wp-content/uploads/2024/09/IMG-7129.png
END:VEVENT
END:VCALENDAR