BEGIN:VCALENDAR
VERSION:2.0
PRODID:-//HeadQuarters - ECPv6.15.1.1//NONSGML v1.0//EN
CALSCALE:GREGORIAN
METHOD:PUBLISH
X-WR-CALNAME:HeadQuarters
X-ORIGINAL-URL:https://headq.org
X-WR-CALDESC:Events for HeadQuarters
REFRESH-INTERVAL;VALUE=DURATION:PT1H
X-Robots-Tag:noindex
X-PUBLISHED-TTL:PT1H
BEGIN:VTIMEZONE
TZID:America/Denver
BEGIN:DAYLIGHT
TZOFFSETFROM:-0700
TZOFFSETTO:-0600
TZNAME:MDT
DTSTART:20250309T090000
END:DAYLIGHT
BEGIN:STANDARD
TZOFFSETFROM:-0600
TZOFFSETTO:-0700
TZNAME:MST
DTSTART:20251102T080000
END:STANDARD
END:VTIMEZONE
BEGIN:VEVENT
DTSTART;TZID=America/Denver:20250213T173000
DTEND;TZID=America/Denver:20250213T190000
DTSTAMP:20260420T095007
CREATED:20250205T210148Z
LAST-MODIFIED:20250205T210148Z
UID:10003269-1739467800-1739473200@headq.org
SUMMARY:Understanding Loneliness
DESCRIPTION:Understanding Loneliness With J.W. Freiberg \nThursday February 13th 5.30-7pm ASPEN CHAPEL\nIn Person and Live Streamed $25 \nJW holds a PhD from UCLA and a JD from Harvard Law School. He is the author of the Loneliness Trilogy. Three books that define what loneliness means in the 21st Century. The event will be looking at the effects of loneliness on both individual health\, and on our society as a whole.
URL:https://headq.org/event/understanding-loneliness/
LOCATION:Aspen Chapel\, 77 Meadowood Drive\, Aspen\, CO\, 81611
CATEGORIES:Community Event
ATTACH;FMTTYPE=image/png:https://headq.org/wp-content/uploads/2025/02/Screen-Shot-2025-02-05-at-2.00.07-PM.png
END:VEVENT
END:VCALENDAR