BEGIN:VCALENDAR
VERSION:2.0
PRODID:-//HeadQuarters - ECPv6.15.1.1//NONSGML v1.0//EN
CALSCALE:GREGORIAN
METHOD:PUBLISH
X-ORIGINAL-URL:https://headq.org
X-WR-CALDESC:Events for HeadQuarters
REFRESH-INTERVAL;VALUE=DURATION:PT1H
X-Robots-Tag:noindex
X-PUBLISHED-TTL:PT1H
BEGIN:VTIMEZONE
TZID:America/Denver
BEGIN:DAYLIGHT
TZOFFSETFROM:-0700
TZOFFSETTO:-0600
TZNAME:MDT
DTSTART:20250309T090000
END:DAYLIGHT
BEGIN:STANDARD
TZOFFSETFROM:-0600
TZOFFSETTO:-0700
TZNAME:MST
DTSTART:20251102T080000
END:STANDARD
END:VTIMEZONE
BEGIN:VEVENT
DTSTART;TZID=America/Denver:20250227T180000
DTEND;TZID=America/Denver:20250227T193000
DTSTAMP:20260420T112335
CREATED:20241009T172218Z
LAST-MODIFIED:20250222T041921Z
UID:10002958-1740679200-1740684600@headq.org
SUMMARY:Common Roots Women's Group
DESCRIPTION:Building community\, connection\, and belonging for women in the Roaring Fork Valley\n					\n									REGISTER\n					 \nTOPIC OF THE MONTH: NOT ENOUGH-NESS \nThe mental and physical load of being human can leave us feeling like we are not enough. Not achieving to our fullest potential in our relationships\, our careers\, and our own self care. But what if it all is enough? \nOpen to women aged 18 and older\, including those who identify as female \nRegistration closes 24 hours in advance. If you are unable to register\, please email lindsey@headq.org \nSnacks and drinks will be provided \nWe will never turn anyone away\, please still come if you are unable to register!
URL:https://headq.org/event/common-roots-womens-group-4/
LOCATION:HeadQuarters\, 23400 Two Rivers Rd. #46\, Basalt\, CO\, 81621
CATEGORIES:HeadQuarters Event
ATTACH;FMTTYPE=image/png:https://headq.org/wp-content/uploads/2024/08/Screen-Shot-2024-08-28-at-4.24.22-PM.png
END:VEVENT
END:VCALENDAR