BEGIN:VCALENDAR
VERSION:2.0
PRODID:-//HeadQuarters - ECPv6.15.1.1//NONSGML v1.0//EN
CALSCALE:GREGORIAN
METHOD:PUBLISH
X-WR-CALNAME:HeadQuarters
X-ORIGINAL-URL:https://headq.org
X-WR-CALDESC:Events for HeadQuarters
REFRESH-INTERVAL;VALUE=DURATION:PT1H
X-Robots-Tag:noindex
X-PUBLISHED-TTL:PT1H
BEGIN:VTIMEZONE
TZID:America/Denver
BEGIN:DAYLIGHT
TZOFFSETFROM:-0700
TZOFFSETTO:-0600
TZNAME:MDT
DTSTART:20250309T090000
END:DAYLIGHT
BEGIN:STANDARD
TZOFFSETFROM:-0600
TZOFFSETTO:-0700
TZNAME:MST
DTSTART:20251102T080000
END:STANDARD
END:VTIMEZONE
BEGIN:VEVENT
DTSTART;TZID=America/Denver:20250411T173000
DTEND;TZID=America/Denver:20250411T193000
DTSTAMP:20260424T032044
CREATED:20250328T182116Z
LAST-MODIFIED:20250328T182116Z
UID:10003277-1744392600-1744399800@headq.org
SUMMARY:Crafted Connections: Aligning Mind\, Science & Creativity
DESCRIPTION:ALL AGES \n\n\n\n\nThis dynamic 2hr workshop will blend meditation\, energy work\, and hands-on creativity as you craft your own hat! \nUnlock the power of intention and transformation in Crafted Connections\, a dynamic two-hour workshop blending meditation\, science\, and creativity. \nSpace is limited.\nGET TICKETS
URL:https://headq.org/event/crafted-connections-aligning-mind-science-creativity/
LOCATION:The Collective Snowmass\, 49 Wood Road\, Snowmass Village\, CO\, 81615\, United States
CATEGORIES:HeadQuarters Event
ATTACH;FMTTYPE=image/png:https://headq.org/wp-content/uploads/2025/03/Screen-Shot-2025-03-28-at-12.14.02-PM.png
END:VEVENT
END:VCALENDAR