BEGIN:VCALENDAR
VERSION:2.0
PRODID:-//HeadQuarters - ECPv6.15.1.1//NONSGML v1.0//EN
CALSCALE:GREGORIAN
METHOD:PUBLISH
X-WR-CALNAME:HeadQuarters
X-ORIGINAL-URL:https://headq.org
X-WR-CALDESC:Events for HeadQuarters
REFRESH-INTERVAL;VALUE=DURATION:PT1H
X-Robots-Tag:noindex
X-PUBLISHED-TTL:PT1H
BEGIN:VTIMEZONE
TZID:America/Denver
BEGIN:DAYLIGHT
TZOFFSETFROM:-0700
TZOFFSETTO:-0600
TZNAME:MDT
DTSTART:20250309T090000
END:DAYLIGHT
BEGIN:STANDARD
TZOFFSETFROM:-0600
TZOFFSETTO:-0700
TZNAME:MST
DTSTART:20251102T080000
END:STANDARD
END:VTIMEZONE
BEGIN:VEVENT
DTSTART;TZID=America/Denver:20250507T183000
DTEND;TZID=America/Denver:20250507T193000
DTSTAMP:20260420T171950
CREATED:20250507T191104Z
LAST-MODIFIED:20250507T191104Z
UID:10003280-1746642600-1746646200@headq.org
SUMMARY:Sound Healing
DESCRIPTION:May 7th – 6:30 – 7:30 \nJoin us for another Sound Healing for the first Wednesday in May! As we transition into spring lets set the intention of staying grounded and embracing the longer days. This event is facilitated by gallery owner Jeremy Joseph. Everyone is welcome\, and this is a free get together! \nPlease RSVP – 303 – 513 – 1543
URL:https://headq.org/event/sound-healing-2/
LOCATION:Jeremy Joseph Photography\, 355 Gold Rivers Court\, Suite 2\, Basalt\, CO\, 81621\, Basalt\, 81621\, United States
ATTACH;FMTTYPE=image/png:https://headq.org/wp-content/uploads/2025/04/Sound-Journey-May-7th.png
END:VEVENT
END:VCALENDAR