BEGIN:VCALENDAR
VERSION:2.0
PRODID:-//HeadQuarters - ECPv6.15.1.1//NONSGML v1.0//EN
CALSCALE:GREGORIAN
METHOD:PUBLISH
X-WR-CALNAME:HeadQuarters
X-ORIGINAL-URL:https://headq.org
X-WR-CALDESC:Events for HeadQuarters
REFRESH-INTERVAL;VALUE=DURATION:PT1H
X-Robots-Tag:noindex
X-PUBLISHED-TTL:PT1H
BEGIN:VTIMEZONE
TZID:America/Denver
BEGIN:DAYLIGHT
TZOFFSETFROM:-0700
TZOFFSETTO:-0600
TZNAME:MDT
DTSTART:20250309T090000
END:DAYLIGHT
BEGIN:STANDARD
TZOFFSETFROM:-0600
TZOFFSETTO:-0700
TZNAME:MST
DTSTART:20251102T080000
END:STANDARD
END:VTIMEZONE
BEGIN:VEVENT
DTSTART;TZID=America/Denver:20250522T183000
DTEND;TZID=America/Denver:20250522T203000
DTSTAMP:20260424T031639
CREATED:20250519T192656Z
LAST-MODIFIED:20250519T192656Z
UID:10003284-1747938600-1747945800@headq.org
SUMMARY:Ceremonial Breathwork with Davis Cowles
DESCRIPTION:A sacred space to feel and express the fullness of our experience\, guided by the intelligence of the breathing body. \nThere is a natural accumulation of stuck energy in our bodies and lives. This ceremony exists to support the movement of that buildup in service of our ability to show up to our lives in fullness. \nOur breath is a remarkable tool in unlocking the vast intelligence of the body\, which knows what needs to move\, what needs to be released\, and what needs to be cultivated. \nJoin us for a community ceremony that welcomes you exactly as you are.
URL:https://headq.org/event/ceremonial-breathwork-with-davis-cowles/
LOCATION:True Nature Healing Arts\, 100 North 3rd Street\, Carbondale\, CO\, 81623\, United States
CATEGORIES:Community Event
ATTACH;FMTTYPE=image/png:https://headq.org/wp-content/uploads/2025/05/Ceremonial-Breathwork-image.png
ORGANIZER;CN="Moon &amp%3B Back":MAILTO:davis@mnbcoach.com
END:VEVENT
END:VCALENDAR