BEGIN:VCALENDAR
VERSION:2.0
PRODID:-//HeadQuarters - ECPv6.15.1.1//NONSGML v1.0//EN
CALSCALE:GREGORIAN
METHOD:PUBLISH
X-WR-CALNAME:HeadQuarters
X-ORIGINAL-URL:https://headq.org
X-WR-CALDESC:Events for HeadQuarters
REFRESH-INTERVAL;VALUE=DURATION:PT1H
X-Robots-Tag:noindex
X-PUBLISHED-TTL:PT1H
BEGIN:VTIMEZONE
TZID:America/Denver
BEGIN:DAYLIGHT
TZOFFSETFROM:-0700
TZOFFSETTO:-0600
TZNAME:MDT
DTSTART:20250309T090000
END:DAYLIGHT
BEGIN:STANDARD
TZOFFSETFROM:-0600
TZOFFSETTO:-0700
TZNAME:MST
DTSTART:20251102T080000
END:STANDARD
END:VTIMEZONE
BEGIN:VEVENT
DTSTART;TZID=America/Denver:20250625T173000
DTEND;TZID=America/Denver:20250625T193000
DTSTAMP:20260424T055806
CREATED:20250611T171316Z
LAST-MODIFIED:20250611T211914Z
UID:10003298-1750872600-1750879800@headq.org
SUMMARY:Digging Into Your Humanness
DESCRIPTION:Digging Into Your Humanness\nStep into an immersive\, hands-on experience designed to guide you along a symbolic path of personal growth and reflection. Inspired by the rhythms and wisdom of nature\, this workshop unfolds through four thoughtfully crafted interactive activities—each one inviting you to slow down\, turn inward\, and reconnect with your inner landscape. \nThroughout the experience\, you’ll engage in meaningful moments of creativity\, insight\, and exploration. Whether through quiet reflection or shared conversation\, each activity offers space to cultivate deeper self-awareness and plant the seeds of transformation. \n🌿 What’s included:\nFour unique\, nature-inspired activities that invite personal expression and introspection. Including\, Finding the seeds\, Planting the Flowers\, Writing Excercise. All materials will be included. \n🌸 Closing Circle:\nWe’ll come together as a group to reflect\, share a meaningful takeaway\, or (if you wish) reveal your symbolic flower. A brief guided reflection will help you name one intentional step to continue nurturing your personal gowth beyond the workshop. \n\nREGISTER
URL:https://headq.org/event/digging-into-your-humanness/
LOCATION:The Collective Snowmass\, 49 Wood Road\, Snowmass Village\, CO\, 81615\, United States
CATEGORIES:HeadQuarters Event
ATTACH;FMTTYPE=image/png:https://headq.org/wp-content/uploads/2025/06/Screen-Shot-2025-06-11-at-11.02.41-AM.png
END:VEVENT
END:VCALENDAR