BEGIN:VCALENDAR
VERSION:2.0
PRODID:-//HeadQuarters - ECPv6.15.1.1//NONSGML v1.0//EN
CALSCALE:GREGORIAN
METHOD:PUBLISH
X-ORIGINAL-URL:https://headq.org
X-WR-CALDESC:Events for HeadQuarters
REFRESH-INTERVAL;VALUE=DURATION:PT1H
X-Robots-Tag:noindex
X-PUBLISHED-TTL:PT1H
BEGIN:VTIMEZONE
TZID:America/Denver
BEGIN:DAYLIGHT
TZOFFSETFROM:-0700
TZOFFSETTO:-0600
TZNAME:MDT
DTSTART:20250309T090000
END:DAYLIGHT
BEGIN:STANDARD
TZOFFSETFROM:-0600
TZOFFSETTO:-0700
TZNAME:MST
DTSTART:20251102T080000
END:STANDARD
END:VTIMEZONE
BEGIN:VEVENT
DTSTART;TZID=America/Denver:20250904T180000
DTEND;TZID=America/Denver:20250904T193000
DTSTAMP:20260424T034232
CREATED:20250521T222054Z
LAST-MODIFIED:20250521T222424Z
UID:10003293-1757008800-1757014200@headq.org
SUMMARY:Common Roots Men's Group
DESCRIPTION:Building Community\, Connection\, And Belonging For Women In The Roaring Fork Valley				\n				\n					\n		\n					\n		\n				\n						\n					\n			\n						\n				\n									January 29th\, 20256 – 7:30 PMFREE (donation based)Open to women aged 18 and older\, including those who identify as female4Winds Farm\, 7906 County Road 117\, Glenwood Springs CO 81601 								\n				\n					\n		\n					\n		\n				\n						\n					\n			\n						\n				\n									Women need spaces to come together in real\, meaningful ways where they can share their experiences\, celebrate each other\, and feel supported in community. Common Roots Women’s Group brings women together\, sparking connection and cultivating a culture of strength\, creativity\, and authenticity. THIS IS NOT THERAPY. It’s a welcoming gathering built on open listening\, and embodied presence\, creating room for growth\, encouragement\, and positive support. 								\n				\n					\n		\n					\n		\n				\n						\n					\n			\n						\n				\n									CONVERSATION OF THE MONTH: INTENTIONAL LIVING 								\n				\n					\n		\n					\n		\n				\n						\n					\n			\n						\n				\n									In this session\, we’ll dive into the power of intentional living—getting clear on what you want\, why it matters\, and how to take steady steps toward it. We’ll explore how your intentions shape the way you move through your life\, becoming an ongoing lifestyle and personal philosophy. It’s a space for honest conversation\, support\, and meaningful action. 								\n				\n					\n		\n					\n		\n				\n						\n					\n			\n						\n				\n									If you are unable to register\, please email lindsey@headq.orgSnacks and drinks will be providedWe will never turn anyone away\, please still come if you are unable to register! 								\n				\n				\n				\n									\n					\n						\n									REGISTER
URL:https://headq.org/event/common-roots-mens-group-5/
LOCATION:HeadQuarters\, 23400 Two Rivers Rd. #46\, Basalt\, CO\, 81621
CATEGORIES:HeadQuarters Event
ATTACH;FMTTYPE=image/png:https://headq.org/wp-content/uploads/2025/05/Screen-Shot-2025-05-09-at-1.55.44-PM.png
END:VEVENT
BEGIN:VEVENT
DTSTART;TZID=America/Denver:20250913T093000
DTEND;TZID=America/Denver:20250913T113000
DTSTAMP:20260424T034232
CREATED:20250521T222629Z
LAST-MODIFIED:20250903T172816Z
UID:10003294-1757755800-1757763000@headq.org
SUMMARY:ART HEALING + HOPE
DESCRIPTION:Building Community\, Connection\, And Belonging For Women In The Roaring Fork Valley				\n				\n					\n		\n					\n		\n				\n						\n					\n			\n						\n				\n									January 29th\, 20256 – 7:30 PMFREE (donation based)Open to women aged 18 and older\, including those who identify as female4Winds Farm\, 7906 County Road 117\, Glenwood Springs CO 81601 								\n				\n					\n		\n					\n		\n				\n						\n					\n			\n						\n				\n									Women need spaces to come together in real\, meaningful ways where they can share their experiences\, celebrate each other\, and feel supported in community. Common Roots Women’s Group brings women together\, sparking connection and cultivating a culture of strength\, creativity\, and authenticity. THIS IS NOT THERAPY. It’s a welcoming gathering built on open listening\, and embodied presence\, creating room for growth\, encouragement\, and positive support. 								\n				\n					\n		\n					\n		\n				\n						\n					\n			\n						\n				\n									CONVERSATION OF THE MONTH: INTENTIONAL LIVING 								\n				\n					\n		\n					\n		\n				\n						\n					\n			\n						\n				\n									In this session\, we’ll dive into the power of intentional living—getting clear on what you want\, why it matters\, and how to take steady steps toward it. We’ll explore how your intentions shape the way you move through your life\, becoming an ongoing lifestyle and personal philosophy. It’s a space for honest conversation\, support\, and meaningful action. 								\n				\n					\n		\n					\n		\n				\n						\n					\n			\n						\n				\n									If you are unable to register\, please email lindsey@headq.orgSnacks and drinks will be providedWe will never turn anyone away\, please still come if you are unable to register! 								\n				\n				\n				\n									\n					\n						\n									REGISTER
URL:https://headq.org/event/art-healing-hope-4/
LOCATION:The Art Base
CATEGORIES:HeadQuarters Event
ATTACH;FMTTYPE=image/png:https://headq.org/wp-content/uploads/2024/09/Screen-Shot-2024-09-18-at-2.05.58-PM.png
END:VEVENT
BEGIN:VEVENT
DTSTART;TZID=America/Denver:20250921T090000
DTEND;TZID=America/Denver:20250921T150000
DTSTAMP:20260424T034232
CREATED:20250815T173317Z
LAST-MODIFIED:20250905T170732Z
UID:10003371-1758445200-1758466800@headq.org
SUMMARY:Women Are From Venus
DESCRIPTION:Building Community\, Connection\, And Belonging For Women In The Roaring Fork Valley				\n				\n					\n		\n					\n		\n				\n						\n					\n			\n						\n				\n									January 29th\, 20256 – 7:30 PMFREE (donation based)Open to women aged 18 and older\, including those who identify as female4Winds Farm\, 7906 County Road 117\, Glenwood Springs CO 81601 								\n				\n					\n		\n					\n		\n				\n						\n					\n			\n						\n				\n									Women need spaces to come together in real\, meaningful ways where they can share their experiences\, celebrate each other\, and feel supported in community. Common Roots Women’s Group brings women together\, sparking connection and cultivating a culture of strength\, creativity\, and authenticity. THIS IS NOT THERAPY. It’s a welcoming gathering built on open listening\, and embodied presence\, creating room for growth\, encouragement\, and positive support. 								\n				\n					\n		\n					\n		\n				\n						\n					\n			\n						\n				\n									CONVERSATION OF THE MONTH: INTENTIONAL LIVING 								\n				\n					\n		\n					\n		\n				\n						\n					\n			\n						\n				\n									In this session\, we’ll dive into the power of intentional living—getting clear on what you want\, why it matters\, and how to take steady steps toward it. We’ll explore how your intentions shape the way you move through your life\, becoming an ongoing lifestyle and personal philosophy. It’s a space for honest conversation\, support\, and meaningful action. 								\n				\n					\n		\n					\n		\n				\n						\n					\n			\n						\n				\n									If you are unable to register\, please email lindsey@headq.orgSnacks and drinks will be providedWe will never turn anyone away\, please still come if you are unable to register! 								\n				\n				\n				\n									\n					\n						\n									REGISTER
URL:https://headq.org/event/women-are-from-venus/
LOCATION:4Winds Farm\, 7906 4 Mile Rd\, Glenwood Springs\, CO\, 81601
CATEGORIES:HeadQuarters Event
ATTACH;FMTTYPE=image/png:https://headq.org/wp-content/uploads/2025/08/Screenshot-2025-08-08-at-10.47.21-AM.png
END:VEVENT
BEGIN:VEVENT
DTSTART;TZID=America/Denver:20250925T180000
DTEND;TZID=America/Denver:20250925T193000
DTSTAMP:20260424T034232
CREATED:20250521T223100Z
LAST-MODIFIED:20250521T223424Z
UID:10003295-1758823200-1758828600@headq.org
SUMMARY:Common Roots Women's Group
DESCRIPTION:Building Community\, Connection\, And Belonging For Women In The Roaring Fork Valley				\n				\n					\n		\n					\n		\n				\n						\n					\n			\n						\n				\n									January 29th\, 20256 – 7:30 PMFREE (donation based)Open to women aged 18 and older\, including those who identify as female4Winds Farm\, 7906 County Road 117\, Glenwood Springs CO 81601 								\n				\n					\n		\n					\n		\n				\n						\n					\n			\n						\n				\n									Women need spaces to come together in real\, meaningful ways where they can share their experiences\, celebrate each other\, and feel supported in community. Common Roots Women’s Group brings women together\, sparking connection and cultivating a culture of strength\, creativity\, and authenticity. THIS IS NOT THERAPY. It’s a welcoming gathering built on open listening\, and embodied presence\, creating room for growth\, encouragement\, and positive support. 								\n				\n					\n		\n					\n		\n				\n						\n					\n			\n						\n				\n									CONVERSATION OF THE MONTH: INTENTIONAL LIVING 								\n				\n					\n		\n					\n		\n				\n						\n					\n			\n						\n				\n									In this session\, we’ll dive into the power of intentional living—getting clear on what you want\, why it matters\, and how to take steady steps toward it. We’ll explore how your intentions shape the way you move through your life\, becoming an ongoing lifestyle and personal philosophy. It’s a space for honest conversation\, support\, and meaningful action. 								\n				\n					\n		\n					\n		\n				\n						\n					\n			\n						\n				\n									If you are unable to register\, please email lindsey@headq.orgSnacks and drinks will be providedWe will never turn anyone away\, please still come if you are unable to register! 								\n				\n				\n				\n									\n					\n						\n									REGISTER
URL:https://headq.org/event/common-roots-womens-group-8/
LOCATION:HeadQuarters\, 23400 Two Rivers Rd. #46\, Basalt\, CO\, 81621
CATEGORIES:HeadQuarters Event
ATTACH;FMTTYPE=image/png:https://headq.org/wp-content/uploads/2025/05/Screen-Shot-2025-05-09-at-1.48.21-PM.png
END:VEVENT
END:VCALENDAR