BEGIN:VCALENDAR
VERSION:2.0
PRODID:-//HeadQuarters - ECPv6.15.1.1//NONSGML v1.0//EN
CALSCALE:GREGORIAN
METHOD:PUBLISH
X-WR-CALNAME:HeadQuarters
X-ORIGINAL-URL:https://headq.org
X-WR-CALDESC:Events for HeadQuarters
REFRESH-INTERVAL;VALUE=DURATION:PT1H
X-Robots-Tag:noindex
X-PUBLISHED-TTL:PT1H
BEGIN:VTIMEZONE
TZID:America/Denver
BEGIN:DAYLIGHT
TZOFFSETFROM:-0700
TZOFFSETTO:-0600
TZNAME:MDT
DTSTART:20250309T090000
END:DAYLIGHT
BEGIN:STANDARD
TZOFFSETFROM:-0600
TZOFFSETTO:-0700
TZNAME:MST
DTSTART:20251102T080000
END:STANDARD
END:VTIMEZONE
BEGIN:VEVENT
DTSTART;TZID=America/Denver:20251106T180000
DTEND;TZID=America/Denver:20251106T193000
DTSTAMP:20260420T144709
CREATED:20251021T183003Z
LAST-MODIFIED:20251021T183432Z
UID:10003386-1762452000-1762457400@headq.org
SUMMARY:Common Roots Men's Group
DESCRIPTION:Building Community\, Connection\, And Belonging For Women In The Roaring Fork Valley				\n				\n					\n		\n					\n		\n				\n						\n					\n			\n						\n				\n									January 29th\, 20256 – 7:30 PMFREE (donation based)Open to women aged 18 and older\, including those who identify as female4Winds Farm\, 7906 County Road 117\, Glenwood Springs CO 81601 								\n				\n					\n		\n					\n		\n				\n						\n					\n			\n						\n				\n									Women need spaces to come together in real\, meaningful ways where they can share their experiences\, celebrate each other\, and feel supported in community. Common Roots Women’s Group brings women together\, sparking connection and cultivating a culture of strength\, creativity\, and authenticity. THIS IS NOT THERAPY. It’s a welcoming gathering built on open listening\, and embodied presence\, creating room for growth\, encouragement\, and positive support. 								\n				\n					\n		\n					\n		\n				\n						\n					\n			\n						\n				\n									CONVERSATION OF THE MONTH: INTENTIONAL LIVING 								\n				\n					\n		\n					\n		\n				\n						\n					\n			\n						\n				\n									In this session\, we’ll dive into the power of intentional living—getting clear on what you want\, why it matters\, and how to take steady steps toward it. We’ll explore how your intentions shape the way you move through your life\, becoming an ongoing lifestyle and personal philosophy. It’s a space for honest conversation\, support\, and meaningful action. 								\n				\n					\n		\n					\n		\n				\n						\n					\n			\n						\n				\n									If you are unable to register\, please email lindsey@headq.orgSnacks and drinks will be providedWe will never turn anyone away\, please still come if you are unable to register! 								\n				\n				\n				\n									\n					\n						\n									REGISTER
URL:https://headq.org/event/common-roots-mens-group-7/
LOCATION:HeadQuarters\, 23400 Two Rivers Rd. #46\, Basalt\, CO\, 81621
CATEGORIES:HeadQuarters Event
ATTACH;FMTTYPE=image/png:https://headq.org/wp-content/uploads/2025/05/Screen-Shot-2025-05-09-at-1.55.44-PM.png
END:VEVENT
END:VCALENDAR