BEGIN:VCALENDAR
VERSION:2.0
PRODID:-//HeadQuarters - ECPv6.15.1.1//NONSGML v1.0//EN
CALSCALE:GREGORIAN
METHOD:PUBLISH
X-WR-CALNAME:HeadQuarters
X-ORIGINAL-URL:https://headq.org
X-WR-CALDESC:Events for HeadQuarters
REFRESH-INTERVAL;VALUE=DURATION:PT1H
X-Robots-Tag:noindex
X-PUBLISHED-TTL:PT1H
BEGIN:VTIMEZONE
TZID:America/Denver
BEGIN:DAYLIGHT
TZOFFSETFROM:-0700
TZOFFSETTO:-0600
TZNAME:MDT
DTSTART:20250309T090000
END:DAYLIGHT
BEGIN:STANDARD
TZOFFSETFROM:-0600
TZOFFSETTO:-0700
TZNAME:MST
DTSTART:20251102T080000
END:STANDARD
END:VTIMEZONE
BEGIN:VEVENT
DTSTART;TZID=America/Denver:20250810T100000
DTEND;TZID=America/Denver:20250810T160000
DTSTAMP:20260420T193316
CREATED:20250529T162922Z
LAST-MODIFIED:20250812T204120Z
UID:10003297-1754820000-1754841600@headq.org
SUMMARY:2025 Mayor's Cup
DESCRIPTION:Tee off for a cause. Swing for change. Uplift your community—one putt at a time!\n																														 \n\n\n				“Demand for mental health services is real\, to help save youth and families\, support our friends\, and strengthen our community. Join me on Sunday\, August 10th\, for the Mayor’s Cup tournament to help Headquarters provide regional mental health services. Enjoy a great Aspen day of golf fun and competition while helping those in need.”\n			 \n											Rachael Richards\n					 \nMayor Rachael Richards kicked things off with plenty of laughter at the dunk tank\, we paid homage to Happy Gilmore 2 with a slapstick shot\, there were wits and wagers\, and DJ Rico and Jackfruit Kitchen brought the fun with the Dunkaroo and delicious vegan treats. The weather was gorgeous—minus a little smoke in the air (thinking of our neighbors in Meeker)—and together we raised over $60\,000 to support Mental Fitness programs for our valley. \n1st Place Team – The Benders \n2nd Place Team – Worm Burners \n3rd Place Team – Linney School of Golf \nMen’s Closest to the Pin – Mitch Murray \nWomen’s Closest to the Pin – Jamie McLeod \nMen’s Longest Drive – Hayden Murray \nWomen’s Longest Drive – Katie Peshek \nAll in a day of golf! A huge thank you to the City of Aspen and Aspen Golf Course for making it possible\, and to all our sponsors—this impact wouldn’t happen without you. \n					\n									DIDN’T MAKE IT — BUT I WANT TO SUPPORT THE CAUSE!
URL:https://headq.org/event/2025-mayors-cup/
LOCATION:Aspen Golf Club\, 39551 CO-82 Ste 1\, Aspen\, CO\, 81601\, United States
CATEGORIES:HeadQuarters Event
ATTACH;FMTTYPE=image/png:https://headq.org/wp-content/uploads/2025/05/Screen-Shot-2025-05-29-at-9.59.55-AM.png
END:VEVENT
END:VCALENDAR