BEGIN:VCALENDAR
VERSION:2.0
PRODID:-//HeadQuarters - ECPv6.15.1.1//NONSGML v1.0//EN
CALSCALE:GREGORIAN
METHOD:PUBLISH
X-ORIGINAL-URL:https://headq.org
X-WR-CALDESC:Events for HeadQuarters
REFRESH-INTERVAL;VALUE=DURATION:PT1H
X-Robots-Tag:noindex
X-PUBLISHED-TTL:PT1H
BEGIN:VTIMEZONE
TZID:America/Denver
BEGIN:DAYLIGHT
TZOFFSETFROM:-0700
TZOFFSETTO:-0600
TZNAME:MDT
DTSTART:20250309T090000
END:DAYLIGHT
BEGIN:STANDARD
TZOFFSETFROM:-0600
TZOFFSETTO:-0700
TZNAME:MST
DTSTART:20251102T080000
END:STANDARD
END:VTIMEZONE
BEGIN:VEVENT
DTSTART;TZID=America/Denver:20250921T090000
DTEND;TZID=America/Denver:20250921T160000
DTSTAMP:20260422T061224
CREATED:20250905T172346Z
LAST-MODIFIED:20250905T172347Z
UID:10003378-1758445200-1758470400@headq.org
SUMMARY:Grief\, Loss & Personal Reflections: A Community Gathering
DESCRIPTION:Grief\, Loss & Personal Reflections: A Community Gathering \nSunday\, September 21st | 9:00 AM – 4:00 PM\nFREE COMMUNITY OFFERING \nTrue Nature | Carbondale\, CO \nPlease RSVP ahead of time so we can accurately prepare!\nREGISTER NOW \nDescription:Taking a community-driven approach to local wellness\, we invite you to a soulful day of supported reflection\, nourishment\, and healing to honor grief in all its forms—personal\, collective\, anticipatory\, and ancestral. However you define your grief\, you are welcome here. \nWith the generous support of Pathfinders\, Aspen Hope Center\, Aspen Institute’s Hurst Community Initiative\, Lead with Love\, and the Connection is the Medicine Foundation—alongside a growing number of local agencies\, direct service providers\, mental health professionals\, clergy\, restaurants\, musicians\, and media sponsors—we collectively present this unique community gathering. \nWhat to Expect: Held on the tranquil campus of True Nature in Carbondale\, this free and public event offers a series of interactive experiences and healing modalities to support participants in the grieving process.Offerings include: \n\n\nGuided breathwork and meditation \n\n\nJournaling and personal reflection exercises \n\n\nInformal small group discussions \n\n\nImmersive musical performances \n\n\nNourishing refreshments from local restaurants \n\n\nYou’re invited to come as you are—with friends\, family\, or on your own—to share in an intentionally inclusive and uplifting moment of pause\, contemplation\, feeling\, and healing. This is a chance to be together\, honor what we carry\, and recognize grief as an essential component of individual and collective wellbeing. \n\n“Grief\, I’ve learned\, is really just love. It’s all the love you want to give but cannot. All of that unspent love gathers up in the corners of your eyes\, the lump in your throat\, and in that hollow part of your chest. Grief is just love with no place to go.”— Jamie Anderson \n\nWe are not alone. \nWe hope you’ll join us. \nREGISTER NOW \nHuge gratitude to Hurst Community Initiative\, Aspen Hope Center and Pathfinders\, Lead with Love and all our community partners for making this possible! \n\n\nHeadQuarters \n\n\nKDNK \n\n\nAspen Public Radio \n\n\nAspen Daily News \n\n\nVillage Smithy \n\n\nDos Gringos Burritos \n\n\nPhat Thai
URL:https://headq.org/event/grief-loss-personal-reflections-a-community-gathering/
LOCATION:True Nature\, 100 N 3rd St\, Carbondale\, CO\, 81623
CATEGORIES:Community Event
ATTACH;FMTTYPE=image/png:https://headq.org/wp-content/uploads/2025/09/Screenshot-2025-09-05-at-11.17.08-AM.png
ORGANIZER;CN="True Nature Healing Arts":MAILTO:megan@truenaturehealingarts.com
END:VEVENT
END:VCALENDAR