BEGIN:VCALENDAR
VERSION:2.0
PRODID:-//HeadQuarters - ECPv6.15.1.1//NONSGML v1.0//EN
CALSCALE:GREGORIAN
METHOD:PUBLISH
X-ORIGINAL-URL:https://headq.org
X-WR-CALDESC:Events for HeadQuarters
REFRESH-INTERVAL;VALUE=DURATION:PT1H
X-Robots-Tag:noindex
X-PUBLISHED-TTL:PT1H
BEGIN:VTIMEZONE
TZID:America/Denver
BEGIN:DAYLIGHT
TZOFFSETFROM:-0700
TZOFFSETTO:-0600
TZNAME:MDT
DTSTART:20250309T090000
END:DAYLIGHT
BEGIN:STANDARD
TZOFFSETFROM:-0600
TZOFFSETTO:-0700
TZNAME:MST
DTSTART:20251102T080000
END:STANDARD
END:VTIMEZONE
BEGIN:VEVENT
DTSTART;TZID=America/Denver:20251213T093000
DTEND;TZID=America/Denver:20251213T113000
DTSTAMP:20260420T084033
CREATED:20251021T190345Z
LAST-MODIFIED:20251021T190659Z
UID:10003391-1765618200-1765625400@headq.org
SUMMARY:ART HEALING + HOPE
DESCRIPTION:ART HEALING + HOPE\nDecember 13th\, 2025\n9:30 AM – 11:30 AM\n$20\nOpen to all skill levels\nThe Art Base\, Basalt \nExperience the power of community in an art class designed for healing\, FUN\, alleviating stress\, and decompressing! Explore your creativity while making connections and drawing insight from within. All experience levels are welcome. The focus is on PROCESS\, rather than the end result. \nPlease bring your own sketchbook or journal. Journals are available for $15 at the Art Base\, call to reserve. \nRegistration Opens 12/1 @ 8am\n\nREGISTER
URL:https://headq.org/event/art-healing-hope-7/
LOCATION:The Art Base
CATEGORIES:HeadQuarters Event
ATTACH;FMTTYPE=image/png:https://headq.org/wp-content/uploads/2024/09/Screen-Shot-2024-09-18-at-2.05.58-PM.png
END:VEVENT
END:VCALENDAR