BEGIN:VCALENDAR
VERSION:2.0
PRODID:-//HeadQuarters - ECPv6.15.1.1//NONSGML v1.0//EN
CALSCALE:GREGORIAN
METHOD:PUBLISH
X-WR-CALNAME:HeadQuarters
X-ORIGINAL-URL:https://headq.org
X-WR-CALDESC:Events for HeadQuarters
REFRESH-INTERVAL;VALUE=DURATION:PT1H
X-Robots-Tag:noindex
X-PUBLISHED-TTL:PT1H
BEGIN:VTIMEZONE
TZID:America/Denver
BEGIN:DAYLIGHT
TZOFFSETFROM:-0700
TZOFFSETTO:-0600
TZNAME:MDT
DTSTART:20250309T090000
END:DAYLIGHT
BEGIN:STANDARD
TZOFFSETFROM:-0600
TZOFFSETTO:-0700
TZNAME:MST
DTSTART:20251102T080000
END:STANDARD
END:VTIMEZONE
BEGIN:VEVENT
DTSTART;TZID=America/Denver:20251002T180000
DTEND;TZID=America/Denver:20251002T193000
DTSTAMP:20260420T144923
CREATED:20250903T162634Z
LAST-MODIFIED:20251021T182940Z
UID:10003374-1759428000-1759433400@headq.org
SUMMARY:Common Roots Men's Group
DESCRIPTION:Building Community\, Connection\, And Belonging For Men In The Roaring Fork Valley\n\nREGISTER\n \nOctober 2nd\n6 – 7:30 PM\nFREE (Donation based)\nOpen to men aged 18 and older\, including those who identify as male\n23400 Two Rivers Road #46\, Basalt CO 81621 \nMen need spaces to gather sincerely with other men\, to express the fullness of their experience\, and to witness other men doing the same. Common Roots connects men of the Roaring Fork Valley\, sparks brotherhood and fosters a healthy and mature masculine culture in a world where men often “go it alone.” \nTHIS IS NOT THERAPY. It is a gathering that challenges traditional ideas of support groups through peer empowerment\, deep listening\, and embodiment for strength\, hope and cultural change. \nCONVERSATION OF THE MONTH: THE INNER KNOWING \nWe all have an inner compass—a deep\, quiet wisdom beneath the noise of daily life. This group will challenge you to reconnect with that inner knowing\, learning to trust yourself\, listen deeply\, and begin to move through life with greater clarity and confidence. \nIf you are unable to register\, please email lindsey@headq.org\nSnacks and drinks will be provided\nWe will never turn anyone away\, please still come if you are unable to register! \n\nREGISTER
URL:https://headq.org/event/common-roots-mens-group-6/
LOCATION:HeadQuarters\, 23400 Two Rivers Rd. #46\, Basalt\, CO\, 81621
CATEGORIES:HeadQuarters Event
ATTACH;FMTTYPE=image/png:https://headq.org/wp-content/uploads/2025/05/Screen-Shot-2025-05-09-at-1.55.44-PM.png
END:VEVENT
END:VCALENDAR