BEGIN:VCALENDAR
VERSION:2.0
PRODID:-//HeadQuarters - ECPv6.15.1.1//NONSGML v1.0//EN
CALSCALE:GREGORIAN
METHOD:PUBLISH
X-WR-CALNAME:HeadQuarters
X-ORIGINAL-URL:https://headq.org
X-WR-CALDESC:Events for HeadQuarters
REFRESH-INTERVAL;VALUE=DURATION:PT1H
X-Robots-Tag:noindex
X-PUBLISHED-TTL:PT1H
BEGIN:VTIMEZONE
TZID:America/Denver
BEGIN:DAYLIGHT
TZOFFSETFROM:-0700
TZOFFSETTO:-0600
TZNAME:MDT
DTSTART:20250309T090000
END:DAYLIGHT
BEGIN:STANDARD
TZOFFSETFROM:-0600
TZOFFSETTO:-0700
TZNAME:MST
DTSTART:20251102T080000
END:STANDARD
END:VTIMEZONE
BEGIN:VEVENT
DTSTART;TZID=America/Denver:20251011T093000
DTEND;TZID=America/Denver:20251011T113000
DTSTAMP:20260420T161251
CREATED:20250903T170935Z
LAST-MODIFIED:20250903T172725Z
UID:10003376-1760175000-1760182200@headq.org
SUMMARY:ART HEALING + HOPE
DESCRIPTION:ART HEALING + HOPE\nOctober 11th\, 20259:30 AM – 11:30 AM$20Open to all skill levelsThe Art Base\, Basalt \nExperience the power of community in an art class designed for healing\, FUN\, alleviating stress\, and decompressing! Explore your creativity while making connections and drawing insight from within. All experience levels are welcome. The focus is on PROCESS\, rather than the end result. \nPlease bring your own sketchbook or journal. Journals are available for $15 at the Art Base\, call to reserve. \nRegistration Opens 10/1 @ 8am\n					\n									REGISTER
URL:https://headq.org/event/art-healing-hope-5/
LOCATION:HeadQuarters\, 23400 Two Rivers Rd. #46\, Basalt\, CO\, 81621
CATEGORIES:HeadQuarters Event
ATTACH;FMTTYPE=image/png:https://headq.org/wp-content/uploads/2024/09/Screen-Shot-2024-09-18-at-2.05.58-PM.png
END:VEVENT
END:VCALENDAR