BEGIN:VCALENDAR
VERSION:2.0
PRODID:-//HeadQuarters - ECPv6.15.1.1//NONSGML v1.0//EN
CALSCALE:GREGORIAN
METHOD:PUBLISH
X-ORIGINAL-URL:https://headq.org
X-WR-CALDESC:Events for HeadQuarters
REFRESH-INTERVAL;VALUE=DURATION:PT1H
X-Robots-Tag:noindex
X-PUBLISHED-TTL:PT1H
BEGIN:VTIMEZONE
TZID:America/Denver
BEGIN:DAYLIGHT
TZOFFSETFROM:-0700
TZOFFSETTO:-0600
TZNAME:MDT
DTSTART:20250309T090000
END:DAYLIGHT
BEGIN:STANDARD
TZOFFSETFROM:-0600
TZOFFSETTO:-0700
TZNAME:MST
DTSTART:20251102T080000
END:STANDARD
END:VTIMEZONE
BEGIN:VEVENT
DTSTART;TZID=America/Denver:20251030T180000
DTEND;TZID=America/Denver:20251030T193000
DTSTAMP:20260420T144954
CREATED:20250903T164621Z
LAST-MODIFIED:20250903T164913Z
UID:10003375-1761847200-1761852600@headq.org
SUMMARY:Common Roots Women's Group
DESCRIPTION:Building Community\, Connection\, And Belonging For Women In The Roaring Fork Valley\n					\n									REGISTER\n					 \nOctober 30th6 – 7:30 PMFREE (donation based)Open to women aged 18 and older\, including those who identify as female23400 Two Rivers Rd #46\, Basalt\, CO 81621 \nWomen need spaces to come together in real\, meaningful ways where they can share their experiences\, celebrate each other\, and feel supported in community. Common Roots Women’s Group brings women together\, sparking connection and cultivating a culture of strength\, creativity\, and authenticity. \nTHIS IS NOT THERAPY. It’s a welcoming gathering built on open listening\, and embodied presence\, creating room for growth\, encouragement\, and positive support. \nCONVERSATION OF THE MONTH: THE INNER KNOWING \nEvery woman carries an inner compass\, a quiet wisdom that offers guidance\, clarity\, and strength. Alongside this knowing live innate qualities: compassion\, resilience\, creativity\, and courage. Together\, these gifts form the foundation of emotional wellness. \nThis gathering is an invitation to pause\, reconnect\, and trust what is already within you. \nIf you are unable to register\, please email lindsey@headq.orgSnacks and drinks will be providedWe will never turn anyone away\, please still come if you are unable to register! \n					\n									REGISTER
URL:https://headq.org/event/common-roots-womens-group-9/
LOCATION:HeadQuarters\, 23400 Two Rivers Rd. #46\, Basalt\, CO\, 81621
CATEGORIES:HeadQuarters Event
ATTACH;FMTTYPE=image/png:https://headq.org/wp-content/uploads/2025/05/Screen-Shot-2025-05-09-at-1.48.21-PM.png
END:VEVENT
END:VCALENDAR