BEGIN:VCALENDAR
VERSION:2.0
PRODID:-//HeadQuarters - ECPv6.15.1.1//NONSGML v1.0//EN
CALSCALE:GREGORIAN
METHOD:PUBLISH
X-WR-CALNAME:HeadQuarters
X-ORIGINAL-URL:https://headq.org
X-WR-CALDESC:Events for HeadQuarters
REFRESH-INTERVAL;VALUE=DURATION:PT1H
X-Robots-Tag:noindex
X-PUBLISHED-TTL:PT1H
BEGIN:VTIMEZONE
TZID:America/Denver
BEGIN:DAYLIGHT
TZOFFSETFROM:-0700
TZOFFSETTO:-0600
TZNAME:MDT
DTSTART:20240310T090000
END:DAYLIGHT
BEGIN:STANDARD
TZOFFSETFROM:-0600
TZOFFSETTO:-0700
TZNAME:MST
DTSTART:20241103T080000
END:STANDARD
BEGIN:DAYLIGHT
TZOFFSETFROM:-0700
TZOFFSETTO:-0600
TZNAME:MDT
DTSTART:20250309T090000
END:DAYLIGHT
BEGIN:STANDARD
TZOFFSETFROM:-0600
TZOFFSETTO:-0700
TZNAME:MST
DTSTART:20251102T080000
END:STANDARD
END:VTIMEZONE
BEGIN:VEVENT
DTSTART;TZID=America/Denver:20251203T173000
DTEND;TZID=America/Denver:20251203T190000
DTSTAMP:20260420T172202
CREATED:20251125T181143Z
LAST-MODIFIED:20251125T181143Z
UID:10003411-1764783000-1764788400@headq.org
SUMMARY:Poinsettia Arrangement Workshop
DESCRIPTION:Poinsettia plants\, also known as Mexican Flame Leaves\, are perhaps the plant that most symbolizes Christmas\, 2nd to the Christmas tree. \nJoin us in this workshop where we will utilize seasonal greenery and decorative branches to create a striking and colorful holiday style arrangement featuring classic living Poinsettia plants. \nClass price includes\, a poinsettia plant\, pot cover\, evergreen boughs and ornamental branches. Additional fees may apply. \nBook this event on our website and check out to reserve your spot. Please be on time as we will plan to start promptly.
URL:https://headq.org/event/poinsettia-arrangement-workshop/
LOCATION:Botany Houseplant Shop\, 586 Highway 133\, Carbondale\, CO\, 81623\, United States
CATEGORIES:Community Event
ATTACH;FMTTYPE=image/jpeg:https://headq.org/wp-content/uploads/2025/11/IMG_0886-1.jpeg
ORGANIZER;CN="Botany Houseplant Shop":MAILTO:botanyhouseplantshop@gmail.com
END:VEVENT
BEGIN:VEVENT
DTSTART;TZID=America/Denver:20251119T173000
DTEND;TZID=America/Denver:20251119T190000
DTSTAMP:20260420T172202
CREATED:20251106T175950Z
LAST-MODIFIED:20251106T175950Z
UID:10003399-1763573400-1763578800@headq.org
SUMMARY:Paperwhite Centerpiece Workshop
DESCRIPTION:Elegant and fragrant\, Paperwhites are petite clusters of white flowers that are related to Daffodils. These quick-growing bulbs are traditionally forced to bloom indoors in wintertime and make an cheerful focal point for any room. \nHave fun creating a seasonal arrangement utilizing these easy to care for bulbs along with other decorative branches and greenery. \nClass price includes\, a glass vessel\, 3 paperwhite bulbs\, decorative rock\, evergreen boughs and ornamental branches. Additional fees may apply. \nBook this event on our website and check out to reserve your spot.
URL:https://headq.org/event/paperwhite-centerpiece-workshop/
LOCATION:Botany Houseplant Shop\, 586 Highway 133\, Carbondale\, CO\, 81623\, United States
CATEGORIES:Community Event
ATTACH;FMTTYPE=image/jpeg:https://headq.org/wp-content/uploads/2025/11/IMG_3294-1.jpeg
ORGANIZER;CN="Botany Houseplant Shop":MAILTO:botanyhouseplantshop@gmail.com
END:VEVENT
BEGIN:VEVENT
DTSTART;TZID=America/Denver:20251105T173000
DTEND;TZID=America/Denver:20251105T193000
DTSTAMP:20260420T172202
CREATED:20251104T191137Z
LAST-MODIFIED:20251104T191137Z
UID:10003394-1762363800-1762371000@headq.org
SUMMARY:ORCHID 101 & REPOTTING
DESCRIPTION:Learn the secrets of how to keep your Orchids alive\, thriving\, AND how to get them to rebloom! Didi Lawrence is a self-taught orchid grower and wants to share her tips and tricks with you. Alongside Didi\, Leslie Buettner\, owner of Botany Houseplant Shop\, you will be given hands-on instruction through the process of re-potting your orchid plants. \nBring up to 5 of your own orchid plants to learn how to repot\, $7 per plant! Additional fees may apply.
URL:https://headq.org/event/orchid-101-repotting/
LOCATION:Botany Houseplant Shop\, 586 Highway 133\, Carbondale\, CO\, 81623\, United States
CATEGORIES:Community Event
ATTACH;FMTTYPE=image/jpeg:https://headq.org/wp-content/uploads/2025/10/IMG_1101-1.jpeg
ORGANIZER;CN="Botany Houseplant Shop":MAILTO:botanyhouseplantshop@gmail.com
END:VEVENT
BEGIN:VEVENT
DTSTART;TZID=America/Denver:20250207T180000
DTEND;TZID=America/Denver:20250207T193000
DTSTAMP:20260420T172202
CREATED:20250210T182007Z
LAST-MODIFIED:20250210T182007Z
UID:10003271-1738951200-1738956600@headq.org
SUMMARY:Kokedama & Bark Mounting Workshop
DESCRIPTION:Get crafty with us this Friday\, the 7th at 6pm by learning how to bark mount a Staghorn Fern\, and the traditional Japanese technique of a moss-wrapped planting- Kokedama. Assemble your own wall-mounted plant and Kokedama and take your unique plant creations home with you! \nPre-registration is required on our website under “workshops” tab. \nLight snacks and refreshments are provided and in-store items are 20% off during workshops!
URL:https://headq.org/event/kokedama-bark-mounting-workshop/
LOCATION:Botany Houseplant Shop\, 586 Highway 133\, Carbondale\, CO\, 81623\, United States
CATEGORIES:Community Event
ATTACH;FMTTYPE=image/jpeg:https://headq.org/wp-content/uploads/2025/02/377620316_1031366461381263_7403038799117596291_n.jpeg
ORGANIZER;CN="Botany Houseplant Shop":MAILTO:botanyhouseplantshop@gmail.com
END:VEVENT
BEGIN:VEVENT
DTSTART;TZID=America/Denver:20250116T180000
DTEND;TZID=America/Denver:20250116T193000
DTSTAMP:20260420T172202
CREATED:20250111T181651Z
LAST-MODIFIED:20250111T181651Z
UID:10003001-1737050400-1737055800@headq.org
SUMMARY:Houseplants 101 - Workshop
DESCRIPTION:Learn how to keep your houseplants happy and healthy! We will explain the three essentials- light\, water and soil- along with other key tips and tricks. Bring your own plants to the workshop to receive hands-on instruction on how to repot your houseplants for an additional fee (paid at the time of the class\, between $5-$25 based on size of plant/pot). \nSpots are limited. Please sign-up on our website.\nLight snacks and refreshments are provided and in-store items are 20% off during workshops!
URL:https://headq.org/event/houseplants-101-workshop/
LOCATION:Botany Houseplant Shop\, 586 Highway 133\, Carbondale\, CO\, 81623\, United States
CATEGORIES:Community Event
ATTACH;FMTTYPE=image/jpeg:https://headq.org/wp-content/uploads/2025/01/IMG_5126-scaled.jpeg
ORGANIZER;CN="Botany Houseplant Shop":MAILTO:botanyhouseplantshop@gmail.com
END:VEVENT
BEGIN:VEVENT
DTSTART;TZID=America/Denver:20240719T173000
DTEND;TZID=America/Denver:20240719T190000
DTSTAMP:20260420T172202
CREATED:20240718T174955Z
LAST-MODIFIED:20240718T174955Z
UID:10001751-1721410200-1721415600@headq.org
SUMMARY:Orchid Workshop
DESCRIPTION:Lear how to keep your Orchid plants alive\, thriving and how to get them to rebloom! The second half of this workshop you will receive hands on instruction to learn how to root prune and repot your orchids. Bring up to 5 Orchids from your personal collection to repot! $7 per Orchid in addition to workshop cost.
URL:https://headq.org/event/orchid-workshop/
LOCATION:Botany Houseplant Shop\, 586 Highway 133\, Carbondale\, CO\, 81623\, United States
ATTACH;FMTTYPE=image/png:https://headq.org/wp-content/uploads/2024/07/IMG_4242.png
ORGANIZER;CN="Botany Houseplant Shop":MAILTO:botanyhouseplantshop@gmail.com
END:VEVENT
END:VCALENDAR