BEGIN:VCALENDAR
VERSION:2.0
PRODID:-//HeadQuarters - ECPv6.15.1.1//NONSGML v1.0//EN
CALSCALE:GREGORIAN
METHOD:PUBLISH
X-WR-CALNAME:HeadQuarters
X-ORIGINAL-URL:https://headq.org
X-WR-CALDESC:Events for HeadQuarters
REFRESH-INTERVAL;VALUE=DURATION:PT1H
X-Robots-Tag:noindex
X-PUBLISHED-TTL:PT1H
BEGIN:VTIMEZONE
TZID:America/Denver
BEGIN:DAYLIGHT
TZOFFSETFROM:-0700
TZOFFSETTO:-0600
TZNAME:MDT
DTSTART:20250309T090000
END:DAYLIGHT
BEGIN:STANDARD
TZOFFSETFROM:-0600
TZOFFSETTO:-0700
TZNAME:MST
DTSTART:20251102T080000
END:STANDARD
BEGIN:DAYLIGHT
TZOFFSETFROM:-0700
TZOFFSETTO:-0600
TZNAME:MDT
DTSTART:20260308T090000
END:DAYLIGHT
BEGIN:STANDARD
TZOFFSETFROM:-0600
TZOFFSETTO:-0700
TZNAME:MST
DTSTART:20261101T080000
END:STANDARD
END:VTIMEZONE
BEGIN:VEVENT
DTSTART;TZID=America/Denver:20251102T090000
DTEND;TZID=America/Denver:20260405T123000
DTSTAMP:20260419T061313
CREATED:20250630T223434Z
LAST-MODIFIED:20250630T223434Z
UID:10003310-1762074000-1775392200@headq.org
SUMMARY:Self-Realization Fellowship | Monthly Community Meditation
DESCRIPTION:MONTHLY SUNDAY MORNING MEDITATION \nAll are welcome to attend the monthly SRF Community Meditation offering\, based on the teachings of Paramahansa Yogananda. \nMeetings are held on the first Sunday of each month in the Meditation Room on the second floor of True Nature. This is a donation based offering. \nArrival Time: 9:00 a.m. (to settle in)\nService Begins Promptly: 9:15 a.m.\nThrough the steady practice of yoga meditation\, it is possible to experience a deepening sense of peace\, love\, compassion\, and joy. As inner transformation unfolds\, its positive influence naturally extends outward—first to family and community\, and eventually to the world at large. \n“Reform yourself\, and you will reform thousands.” — Paramahansa Yogananda \n“You realize that all along there was something tremendous within you and you did not know it.”\n– Paramahansa Yogananda\, author of Autobiography of a Yogi \nParamahansa Yogananda (1893–1952) is widely recognized as one of the most influential spiritual figures of the 20th century and has been hailed as the “Father of Yoga in the West.” Born in India\, he came to the United States in 1920\, where he spent more than 30 years teaching India’s ancient science of meditation and the art of balanced living. \nHis many books have introduced millions to the universal truths underlying the world’s spiritual traditions. The award-winning documentary Awake: The Life of Yogananda was released in 2014 and continues to inspire audiences around the world. \nYogananda’s legacy continues through the Self-Realization Fellowship (SRF)\, the organization he founded in 1920 to disseminate the teachings of Kriya Yoga. Through its global outreach\, SRF aims to awaken a deeper understanding of the harmony underlying all true religions and to foster a greater expression of divine love—the love that unites all people in their oneness with God. \nParamahansa Yogananda welcomed seekers of every faith. The benefits of the scientific methods of yoga he taught do not depend on belief\, but arise from direct personal experience of the Divine. \nSuggested Reading:\nAutobiography of a Yogi by Paramahansa Yogananda \nTo Learn More:\nExplore Yogananda’s teachings\, Kriya Yoga\, and the complete SRF path at yogananda.org \nhttps://www.truenaturehealingarts.com/events-workshops
URL:https://headq.org/event/self-realization-fellowship-monthly-community-meditation/2025-11-02/
LOCATION:True Nature\, 100 N 3rd St\, Carbondale\, CO\, 81623
CATEGORIES:Community Event
ATTACH;FMTTYPE=image/jpeg:https://headq.org/wp-content/uploads/2025/06/SRF-JPEG.jpg
ORGANIZER;CN="Megan Miller - Director of Education and Programming":MAILTO:megan@connectionisthemedicine.com
END:VEVENT
BEGIN:VEVENT
DTSTART;TZID=America/Denver:20251005T090000
DTEND;TZID=America/Denver:20260308T113000
DTSTAMP:20260419T061313
CREATED:20250630T223434Z
LAST-MODIFIED:20250630T223434Z
UID:10003309-1759654800-1772969400@headq.org
SUMMARY:Self-Realization Fellowship | Monthly Community Meditation
DESCRIPTION:MONTHLY SUNDAY MORNING MEDITATION \nAll are welcome to attend the monthly SRF Community Meditation offering\, based on the teachings of Paramahansa Yogananda. \nMeetings are held on the first Sunday of each month in the Meditation Room on the second floor of True Nature. This is a donation based offering. \nArrival Time: 9:00 a.m. (to settle in)\nService Begins Promptly: 9:15 a.m.\nThrough the steady practice of yoga meditation\, it is possible to experience a deepening sense of peace\, love\, compassion\, and joy. As inner transformation unfolds\, its positive influence naturally extends outward—first to family and community\, and eventually to the world at large. \n“Reform yourself\, and you will reform thousands.” — Paramahansa Yogananda \n“You realize that all along there was something tremendous within you and you did not know it.”\n– Paramahansa Yogananda\, author of Autobiography of a Yogi \nParamahansa Yogananda (1893–1952) is widely recognized as one of the most influential spiritual figures of the 20th century and has been hailed as the “Father of Yoga in the West.” Born in India\, he came to the United States in 1920\, where he spent more than 30 years teaching India’s ancient science of meditation and the art of balanced living. \nHis many books have introduced millions to the universal truths underlying the world’s spiritual traditions. The award-winning documentary Awake: The Life of Yogananda was released in 2014 and continues to inspire audiences around the world. \nYogananda’s legacy continues through the Self-Realization Fellowship (SRF)\, the organization he founded in 1920 to disseminate the teachings of Kriya Yoga. Through its global outreach\, SRF aims to awaken a deeper understanding of the harmony underlying all true religions and to foster a greater expression of divine love—the love that unites all people in their oneness with God. \nParamahansa Yogananda welcomed seekers of every faith. The benefits of the scientific methods of yoga he taught do not depend on belief\, but arise from direct personal experience of the Divine. \nSuggested Reading:\nAutobiography of a Yogi by Paramahansa Yogananda \nTo Learn More:\nExplore Yogananda’s teachings\, Kriya Yoga\, and the complete SRF path at yogananda.org \nhttps://www.truenaturehealingarts.com/events-workshops
URL:https://headq.org/event/self-realization-fellowship-monthly-community-meditation/2025-10-05/
LOCATION:True Nature\, 100 N 3rd St\, Carbondale\, CO\, 81623
CATEGORIES:Community Event
ATTACH;FMTTYPE=image/jpeg:https://headq.org/wp-content/uploads/2025/06/SRF-JPEG.jpg
ORGANIZER;CN="Megan Miller - Director of Education and Programming":MAILTO:megan@connectionisthemedicine.com
END:VEVENT
BEGIN:VEVENT
DTSTART;TZID=America/Denver:20250926T080000
DTEND;TZID=America/Denver:20250926T090000
DTSTAMP:20260419T061313
CREATED:20250625T173350Z
LAST-MODIFIED:20250625T173350Z
UID:10003305-1758873600-1758877200@headq.org
SUMMARY:GARDEN MORNINGS: Peace Garden Botanical and Landscape Tour with Laura Kirk
DESCRIPTION:The Peace Garden serves our community in endless ways. This restorative and therapeutic environment illustrates a variety of healing modalities\, and it serves as the perfect classroom for enriching educational experiences. Join us for a monthly botanical tour to discover the depths\, riches and myriad of ways the Peace Garden can serve you. \nThe gardens demonstrate an intentional and holistic relationship with the land. Each month we will explore a different topic! \nREGISTER NOW\nDrop-in $20\nFull Season Package $80\nFriday June 27th – Pollinators\nFriday July 25th – Herbs and Medicinals\nFriday August 29th – Planting for a Native Landscape\nFriday September 26th – Seed Harvesting \nBRING YOUR BREAKFAST AND JOIN US FOR TEA IN THE GARDEN! \nExplore organic and biodynamic gardening practices\nLearn about the fascinating history and ecology of our gardens\nIndulge your senses as you connect with edible and medicinal plants\nDelve into the restorative embrace of this therapeutic environment\nExperience the symbiotic dance between humanity and the land \nThis offering is part of our Peace Garden Programming\, an educational initiative of the Connection is the Medicine Foundation\, a non-profit foundation dedicated to co-creating a world where individuals and communities thrive from a sense of inspiration\, connection\, and self-discovery. To learn more about our mission-driven work\, the foundation\, other programming experiences\, and our founders. Please visit www.connectionisthemedicine.com
URL:https://headq.org/event/garden-mornings-peace-garden-botanical-and-landscape-tour-with-laura-kirk/2025-09-26/
LOCATION:True Nature\, 100 N 3rd St\, Carbondale\, CO\, 81623
CATEGORIES:Community Event
ATTACH;FMTTYPE=image/jpeg:https://headq.org/wp-content/uploads/2025/06/GARDEN-MORNINGS.jpg
ORGANIZER;CN="Megan Miller - Director of Education and Programming":MAILTO:megan@connectionisthemedicine.com
END:VEVENT
BEGIN:VEVENT
DTSTART;TZID=America/Denver:20250907T090000
DTEND;TZID=America/Denver:20260208T103000
DTSTAMP:20260419T061313
CREATED:20250630T223434Z
LAST-MODIFIED:20250630T223434Z
UID:10003308-1757235600-1770546600@headq.org
SUMMARY:Self-Realization Fellowship | Monthly Community Meditation
DESCRIPTION:MONTHLY SUNDAY MORNING MEDITATION \nAll are welcome to attend the monthly SRF Community Meditation offering\, based on the teachings of Paramahansa Yogananda. \nMeetings are held on the first Sunday of each month in the Meditation Room on the second floor of True Nature. This is a donation based offering. \nArrival Time: 9:00 a.m. (to settle in)\nService Begins Promptly: 9:15 a.m.\nThrough the steady practice of yoga meditation\, it is possible to experience a deepening sense of peace\, love\, compassion\, and joy. As inner transformation unfolds\, its positive influence naturally extends outward—first to family and community\, and eventually to the world at large. \n“Reform yourself\, and you will reform thousands.” — Paramahansa Yogananda \n“You realize that all along there was something tremendous within you and you did not know it.”\n– Paramahansa Yogananda\, author of Autobiography of a Yogi \nParamahansa Yogananda (1893–1952) is widely recognized as one of the most influential spiritual figures of the 20th century and has been hailed as the “Father of Yoga in the West.” Born in India\, he came to the United States in 1920\, where he spent more than 30 years teaching India’s ancient science of meditation and the art of balanced living. \nHis many books have introduced millions to the universal truths underlying the world’s spiritual traditions. The award-winning documentary Awake: The Life of Yogananda was released in 2014 and continues to inspire audiences around the world. \nYogananda’s legacy continues through the Self-Realization Fellowship (SRF)\, the organization he founded in 1920 to disseminate the teachings of Kriya Yoga. Through its global outreach\, SRF aims to awaken a deeper understanding of the harmony underlying all true religions and to foster a greater expression of divine love—the love that unites all people in their oneness with God. \nParamahansa Yogananda welcomed seekers of every faith. The benefits of the scientific methods of yoga he taught do not depend on belief\, but arise from direct personal experience of the Divine. \nSuggested Reading:\nAutobiography of a Yogi by Paramahansa Yogananda \nTo Learn More:\nExplore Yogananda’s teachings\, Kriya Yoga\, and the complete SRF path at yogananda.org \nhttps://www.truenaturehealingarts.com/events-workshops
URL:https://headq.org/event/self-realization-fellowship-monthly-community-meditation/2025-09-07/
LOCATION:True Nature\, 100 N 3rd St\, Carbondale\, CO\, 81623
CATEGORIES:Community Event
ATTACH;FMTTYPE=image/jpeg:https://headq.org/wp-content/uploads/2025/06/SRF-JPEG.jpg
ORGANIZER;CN="Megan Miller - Director of Education and Programming":MAILTO:megan@connectionisthemedicine.com
END:VEVENT
BEGIN:VEVENT
DTSTART;TZID=America/Denver:20250829T080000
DTEND;TZID=America/Denver:20250829T090000
DTSTAMP:20260419T061313
CREATED:20250625T173350Z
LAST-MODIFIED:20250625T173350Z
UID:10003304-1756454400-1756458000@headq.org
SUMMARY:GARDEN MORNINGS: Peace Garden Botanical and Landscape Tour with Laura Kirk
DESCRIPTION:The Peace Garden serves our community in endless ways. This restorative and therapeutic environment illustrates a variety of healing modalities\, and it serves as the perfect classroom for enriching educational experiences. Join us for a monthly botanical tour to discover the depths\, riches and myriad of ways the Peace Garden can serve you. \nThe gardens demonstrate an intentional and holistic relationship with the land. Each month we will explore a different topic! \nREGISTER NOW\nDrop-in $20\nFull Season Package $80\nFriday June 27th – Pollinators\nFriday July 25th – Herbs and Medicinals\nFriday August 29th – Planting for a Native Landscape\nFriday September 26th – Seed Harvesting \nBRING YOUR BREAKFAST AND JOIN US FOR TEA IN THE GARDEN! \nExplore organic and biodynamic gardening practices\nLearn about the fascinating history and ecology of our gardens\nIndulge your senses as you connect with edible and medicinal plants\nDelve into the restorative embrace of this therapeutic environment\nExperience the symbiotic dance between humanity and the land \nThis offering is part of our Peace Garden Programming\, an educational initiative of the Connection is the Medicine Foundation\, a non-profit foundation dedicated to co-creating a world where individuals and communities thrive from a sense of inspiration\, connection\, and self-discovery. To learn more about our mission-driven work\, the foundation\, other programming experiences\, and our founders. Please visit www.connectionisthemedicine.com
URL:https://headq.org/event/garden-mornings-peace-garden-botanical-and-landscape-tour-with-laura-kirk/2025-08-29/
LOCATION:True Nature\, 100 N 3rd St\, Carbondale\, CO\, 81623
CATEGORIES:Community Event
ATTACH;FMTTYPE=image/jpeg:https://headq.org/wp-content/uploads/2025/06/GARDEN-MORNINGS.jpg
ORGANIZER;CN="Megan Miller - Director of Education and Programming":MAILTO:megan@connectionisthemedicine.com
END:VEVENT
BEGIN:VEVENT
DTSTART;TZID=America/Denver:20250803T090000
DTEND;TZID=America/Denver:20260104T103000
DTSTAMP:20260419T061313
CREATED:20250630T223434Z
LAST-MODIFIED:20250630T223434Z
UID:10003307-1754211600-1767522600@headq.org
SUMMARY:Self-Realization Fellowship | Monthly Community Meditation
DESCRIPTION:MONTHLY SUNDAY MORNING MEDITATION \nAll are welcome to attend the monthly SRF Community Meditation offering\, based on the teachings of Paramahansa Yogananda. \nMeetings are held on the first Sunday of each month in the Meditation Room on the second floor of True Nature. This is a donation based offering. \nArrival Time: 9:00 a.m. (to settle in)\nService Begins Promptly: 9:15 a.m.\nThrough the steady practice of yoga meditation\, it is possible to experience a deepening sense of peace\, love\, compassion\, and joy. As inner transformation unfolds\, its positive influence naturally extends outward—first to family and community\, and eventually to the world at large. \n“Reform yourself\, and you will reform thousands.” — Paramahansa Yogananda \n“You realize that all along there was something tremendous within you and you did not know it.”\n– Paramahansa Yogananda\, author of Autobiography of a Yogi \nParamahansa Yogananda (1893–1952) is widely recognized as one of the most influential spiritual figures of the 20th century and has been hailed as the “Father of Yoga in the West.” Born in India\, he came to the United States in 1920\, where he spent more than 30 years teaching India’s ancient science of meditation and the art of balanced living. \nHis many books have introduced millions to the universal truths underlying the world’s spiritual traditions. The award-winning documentary Awake: The Life of Yogananda was released in 2014 and continues to inspire audiences around the world. \nYogananda’s legacy continues through the Self-Realization Fellowship (SRF)\, the organization he founded in 1920 to disseminate the teachings of Kriya Yoga. Through its global outreach\, SRF aims to awaken a deeper understanding of the harmony underlying all true religions and to foster a greater expression of divine love—the love that unites all people in their oneness with God. \nParamahansa Yogananda welcomed seekers of every faith. The benefits of the scientific methods of yoga he taught do not depend on belief\, but arise from direct personal experience of the Divine. \nSuggested Reading:\nAutobiography of a Yogi by Paramahansa Yogananda \nTo Learn More:\nExplore Yogananda’s teachings\, Kriya Yoga\, and the complete SRF path at yogananda.org \nhttps://www.truenaturehealingarts.com/events-workshops
URL:https://headq.org/event/self-realization-fellowship-monthly-community-meditation/2025-08-03/
LOCATION:True Nature\, 100 N 3rd St\, Carbondale\, CO\, 81623
CATEGORIES:Community Event
ATTACH;FMTTYPE=image/jpeg:https://headq.org/wp-content/uploads/2025/06/SRF-JPEG.jpg
ORGANIZER;CN="Megan Miller - Director of Education and Programming":MAILTO:megan@connectionisthemedicine.com
END:VEVENT
BEGIN:VEVENT
DTSTART;TZID=America/Denver:20250725T080000
DTEND;TZID=America/Denver:20250725T090000
DTSTAMP:20260419T061313
CREATED:20250625T173350Z
LAST-MODIFIED:20250625T173350Z
UID:10003303-1753430400-1753434000@headq.org
SUMMARY:GARDEN MORNINGS: Peace Garden Botanical and Landscape Tour with Laura Kirk
DESCRIPTION:The Peace Garden serves our community in endless ways. This restorative and therapeutic environment illustrates a variety of healing modalities\, and it serves as the perfect classroom for enriching educational experiences. Join us for a monthly botanical tour to discover the depths\, riches and myriad of ways the Peace Garden can serve you. \nThe gardens demonstrate an intentional and holistic relationship with the land. Each month we will explore a different topic! \nREGISTER NOW\nDrop-in $20\nFull Season Package $80\nFriday June 27th – Pollinators\nFriday July 25th – Herbs and Medicinals\nFriday August 29th – Planting for a Native Landscape\nFriday September 26th – Seed Harvesting \nBRING YOUR BREAKFAST AND JOIN US FOR TEA IN THE GARDEN! \nExplore organic and biodynamic gardening practices\nLearn about the fascinating history and ecology of our gardens\nIndulge your senses as you connect with edible and medicinal plants\nDelve into the restorative embrace of this therapeutic environment\nExperience the symbiotic dance between humanity and the land \nThis offering is part of our Peace Garden Programming\, an educational initiative of the Connection is the Medicine Foundation\, a non-profit foundation dedicated to co-creating a world where individuals and communities thrive from a sense of inspiration\, connection\, and self-discovery. To learn more about our mission-driven work\, the foundation\, other programming experiences\, and our founders. Please visit www.connectionisthemedicine.com
URL:https://headq.org/event/garden-mornings-peace-garden-botanical-and-landscape-tour-with-laura-kirk/2025-07-25/
LOCATION:True Nature\, 100 N 3rd St\, Carbondale\, CO\, 81623
CATEGORIES:Community Event
ATTACH;FMTTYPE=image/jpeg:https://headq.org/wp-content/uploads/2025/06/GARDEN-MORNINGS.jpg
ORGANIZER;CN="Megan Miller - Director of Education and Programming":MAILTO:megan@connectionisthemedicine.com
END:VEVENT
BEGIN:VEVENT
DTSTART;TZID=America/Denver:20250711T173000
DTEND;TZID=America/Denver:20250711T193000
DTSTAMP:20260419T061313
CREATED:20250630T223319Z
LAST-MODIFIED:20250630T223319Z
UID:10003328-1752255000-1752262200@headq.org
SUMMARY:Psychedelics: Beyond the Hype\, Evidence for Transformation with Lindsay Branham
DESCRIPTION:Join us in welcoming Lindsay Branham\, PhD\, environmental psychologist\, filmmaker\, and psychedelic facilitator\, for a thoughtful community conversation on the promise and reality of psychedelic therapy. A grounded\, evidence-based session for anyone exploring this emerging field. \nAs Colorado opens the door to legal healing centers\, what do these shifts mean for you and your wellness journey? Together\, we’ll explore: \nWhat current science says about psychedelics for addiction\, depression\, anxiety\, and end-of-life care \nWho may (and may not) be a good candidate for psychedelic therapy \nKey safety considerations and supportive care approaches \nAn embodied practice to complement healing work \nCome with curiosity\, leave with clarity. Whether you’re simply curious about this developing field or wondering if psychedelic therapy might be right for you\, this session provides balanced\, evidence-based information to help you make informed decisions about your wellness journey. \nLindsay Branham\, MPhil\, PhD\, is an environmental psychologist exploring embodied and erotic ecology. She is the author of Heartwood: The Wisdom and Healing Kinship of Trees\, coming in 2026. Lindsay teaches environmental psychology\, ethics and ecological awareness for psychedelic care\, and leads experiential retreats to explore entanglement with the living world. She is also an Emmy-nominated film director\, and for two decades\, led collaborative film-based interventions to address human rights and ecological crises. She is trained as a Buddhist eco-doula\, is a certified psychedelic facilitator\, and holds an MPhil and PhD in Psychology both from the University of Cambridge. She is also a columnist for The Aspen Times writing about environmental topics facing Pitkin County\, Colorado. \nCheck out this VIDEO INVITE FROM LINDSAY! https://www.youtube.com/shorts/miAx4vRHMzc
URL:https://headq.org/event/psychedelics-beyond-the-hype-evidence-for-transformation-with-lindsay-branham/
LOCATION:True Nature\, 100 N 3rd St\, Carbondale\, CO\, 81623
CATEGORIES:Community Event
ATTACH;FMTTYPE=image/jpeg:https://headq.org/wp-content/uploads/2025/06/LB.jpg
ORGANIZER;CN="Megan Miller - Director of Education and Programming":MAILTO:megan@connectionisthemedicine.com
END:VEVENT
BEGIN:VEVENT
DTSTART;TZID=America/Denver:20250706T090000
DTEND;TZID=America/Denver:20251207T103000
DTSTAMP:20260419T061313
CREATED:20250630T223434Z
LAST-MODIFIED:20250630T223434Z
UID:10003306-1751792400-1765103400@headq.org
SUMMARY:Self-Realization Fellowship | Monthly Community Meditation
DESCRIPTION:MONTHLY SUNDAY MORNING MEDITATION \nAll are welcome to attend the monthly SRF Community Meditation offering\, based on the teachings of Paramahansa Yogananda. \nMeetings are held on the first Sunday of each month in the Meditation Room on the second floor of True Nature. This is a donation based offering. \nArrival Time: 9:00 a.m. (to settle in)\nService Begins Promptly: 9:15 a.m.\nThrough the steady practice of yoga meditation\, it is possible to experience a deepening sense of peace\, love\, compassion\, and joy. As inner transformation unfolds\, its positive influence naturally extends outward—first to family and community\, and eventually to the world at large. \n“Reform yourself\, and you will reform thousands.” — Paramahansa Yogananda \n“You realize that all along there was something tremendous within you and you did not know it.”\n– Paramahansa Yogananda\, author of Autobiography of a Yogi \nParamahansa Yogananda (1893–1952) is widely recognized as one of the most influential spiritual figures of the 20th century and has been hailed as the “Father of Yoga in the West.” Born in India\, he came to the United States in 1920\, where he spent more than 30 years teaching India’s ancient science of meditation and the art of balanced living. \nHis many books have introduced millions to the universal truths underlying the world’s spiritual traditions. The award-winning documentary Awake: The Life of Yogananda was released in 2014 and continues to inspire audiences around the world. \nYogananda’s legacy continues through the Self-Realization Fellowship (SRF)\, the organization he founded in 1920 to disseminate the teachings of Kriya Yoga. Through its global outreach\, SRF aims to awaken a deeper understanding of the harmony underlying all true religions and to foster a greater expression of divine love—the love that unites all people in their oneness with God. \nParamahansa Yogananda welcomed seekers of every faith. The benefits of the scientific methods of yoga he taught do not depend on belief\, but arise from direct personal experience of the Divine. \nSuggested Reading:\nAutobiography of a Yogi by Paramahansa Yogananda \nTo Learn More:\nExplore Yogananda’s teachings\, Kriya Yoga\, and the complete SRF path at yogananda.org \nhttps://www.truenaturehealingarts.com/events-workshops
URL:https://headq.org/event/self-realization-fellowship-monthly-community-meditation/2025-07-06/
LOCATION:True Nature\, 100 N 3rd St\, Carbondale\, CO\, 81623
CATEGORIES:Community Event
ATTACH;FMTTYPE=image/jpeg:https://headq.org/wp-content/uploads/2025/06/SRF-JPEG.jpg
ORGANIZER;CN="Megan Miller - Director of Education and Programming":MAILTO:megan@connectionisthemedicine.com
END:VEVENT
BEGIN:VEVENT
DTSTART;TZID=America/Denver:20250627T080000
DTEND;TZID=America/Denver:20250627T090000
DTSTAMP:20260419T061313
CREATED:20250625T173350Z
LAST-MODIFIED:20250625T173350Z
UID:10003302-1751011200-1751014800@headq.org
SUMMARY:GARDEN MORNINGS: Peace Garden Botanical and Landscape Tour with Laura Kirk
DESCRIPTION:The Peace Garden serves our community in endless ways. This restorative and therapeutic environment illustrates a variety of healing modalities\, and it serves as the perfect classroom for enriching educational experiences. Join us for a monthly botanical tour to discover the depths\, riches and myriad of ways the Peace Garden can serve you. \nThe gardens demonstrate an intentional and holistic relationship with the land. Each month we will explore a different topic! \nREGISTER NOW\nDrop-in $20\nFull Season Package $80\nFriday June 27th – Pollinators\nFriday July 25th – Herbs and Medicinals\nFriday August 29th – Planting for a Native Landscape\nFriday September 26th – Seed Harvesting \nBRING YOUR BREAKFAST AND JOIN US FOR TEA IN THE GARDEN! \nExplore organic and biodynamic gardening practices\nLearn about the fascinating history and ecology of our gardens\nIndulge your senses as you connect with edible and medicinal plants\nDelve into the restorative embrace of this therapeutic environment\nExperience the symbiotic dance between humanity and the land \nThis offering is part of our Peace Garden Programming\, an educational initiative of the Connection is the Medicine Foundation\, a non-profit foundation dedicated to co-creating a world where individuals and communities thrive from a sense of inspiration\, connection\, and self-discovery. To learn more about our mission-driven work\, the foundation\, other programming experiences\, and our founders. Please visit www.connectionisthemedicine.com
URL:https://headq.org/event/garden-mornings-peace-garden-botanical-and-landscape-tour-with-laura-kirk/2025-06-27/
LOCATION:True Nature\, 100 N 3rd St\, Carbondale\, CO\, 81623
CATEGORIES:Community Event
ATTACH;FMTTYPE=image/jpeg:https://headq.org/wp-content/uploads/2025/06/GARDEN-MORNINGS.jpg
ORGANIZER;CN="Megan Miller - Director of Education and Programming":MAILTO:megan@connectionisthemedicine.com
END:VEVENT
END:VCALENDAR