BEGIN:VCALENDAR
VERSION:2.0
PRODID:-//HeadQuarters - ECPv6.15.1.1//NONSGML v1.0//EN
CALSCALE:GREGORIAN
METHOD:PUBLISH
X-ORIGINAL-URL:https://headq.org
X-WR-CALDESC:Events for HeadQuarters
REFRESH-INTERVAL;VALUE=DURATION:PT1H
X-Robots-Tag:noindex
X-PUBLISHED-TTL:PT1H
BEGIN:VTIMEZONE
TZID:America/Denver
BEGIN:DAYLIGHT
TZOFFSETFROM:-0700
TZOFFSETTO:-0600
TZNAME:MDT
DTSTART:20260308T090000
END:DAYLIGHT
BEGIN:STANDARD
TZOFFSETFROM:-0600
TZOFFSETTO:-0700
TZNAME:MST
DTSTART:20261101T080000
END:STANDARD
END:VTIMEZONE
BEGIN:VEVENT
DTSTART;TZID=America/Denver:20260602T083000
DTEND;TZID=America/Denver:20260602T093000
DTSTAMP:20260420T155634
CREATED:20240305T185429Z
LAST-MODIFIED:20240726T220456Z
UID:10000852-1780389000-1780392600@headq.org
SUMMARY:Meditation - The Gallery Zendo at the Aspen Chapel
DESCRIPTION:A weekly meditation class with Nicholas Vesey\, with instruction in the Zen Tradition.
URL:https://headq.org/event/meditation-the-gallery-zendo-at-the-aspen-chapel/2026-06-02/
LOCATION:Aspen Chapel\, 77 Meadowood Drive\, Aspen\, CO\, 81611
CATEGORIES:Community Event
ATTACH;FMTTYPE=image/png:https://headq.org/wp-content/uploads/2024/02/Meditation-Ad.png
END:VEVENT
BEGIN:VEVENT
DTSTART;TZID=America/Denver:20260602T174500
DTEND;TZID=America/Denver:20260602T191500
DTSTAMP:20260420T155634
CREATED:20241002T172116Z
LAST-MODIFIED:20241002T220518Z
UID:10002777-1780422300-1780427700@headq.org
SUMMARY:Sri Vidya Tantra Yoga & Meditation Class
DESCRIPTION:Taught by the Mother-Daughter Team\, Mimi Hauenstein and Mary Cate Hauenstein \nExperience a transformative yoga and meditation class rooted in the ancient Sri Vidya Tantra yoga lineage. Led by the mother-daughter duo\, Mimi and Mary Cate\, this class takes place in the serene golden light of the Aspen Chapel sanctuary\, creating a peaceful and sacred atmosphere. Suitable for all levels\, it’s a unique opportunity to deepen your connection to yourself through the timeless wisdom of Sri Vidya Tantra. \nAll props are provided\, all are welcome.\n$10 Suggested Donation
URL:https://headq.org/event/sri-vidya-tantra-yoga-meditation-class/2026-06-02/
LOCATION:Aspen Chapel\, 77 Meadowood Drive\, Aspen\, CO\, 81611
CATEGORIES:Community Event
ATTACH;FMTTYPE=image/jpeg:https://headq.org/wp-content/uploads/2024/09/Chapel-Meditation-scaled.jpg
END:VEVENT
BEGIN:VEVENT
DTSTART;TZID=America/Denver:20260609T083000
DTEND;TZID=America/Denver:20260609T093000
DTSTAMP:20260420T155634
CREATED:20240305T185429Z
LAST-MODIFIED:20240726T220456Z
UID:10000853-1780993800-1780997400@headq.org
SUMMARY:Meditation - The Gallery Zendo at the Aspen Chapel
DESCRIPTION:A weekly meditation class with Nicholas Vesey\, with instruction in the Zen Tradition.
URL:https://headq.org/event/meditation-the-gallery-zendo-at-the-aspen-chapel/2026-06-09/
LOCATION:Aspen Chapel\, 77 Meadowood Drive\, Aspen\, CO\, 81611
CATEGORIES:Community Event
ATTACH;FMTTYPE=image/png:https://headq.org/wp-content/uploads/2024/02/Meditation-Ad.png
END:VEVENT
BEGIN:VEVENT
DTSTART;TZID=America/Denver:20260609T174500
DTEND;TZID=America/Denver:20260609T191500
DTSTAMP:20260420T155634
CREATED:20241002T172116Z
LAST-MODIFIED:20241002T220518Z
UID:10002778-1781027100-1781032500@headq.org
SUMMARY:Sri Vidya Tantra Yoga & Meditation Class
DESCRIPTION:Taught by the Mother-Daughter Team\, Mimi Hauenstein and Mary Cate Hauenstein \nExperience a transformative yoga and meditation class rooted in the ancient Sri Vidya Tantra yoga lineage. Led by the mother-daughter duo\, Mimi and Mary Cate\, this class takes place in the serene golden light of the Aspen Chapel sanctuary\, creating a peaceful and sacred atmosphere. Suitable for all levels\, it’s a unique opportunity to deepen your connection to yourself through the timeless wisdom of Sri Vidya Tantra. \nAll props are provided\, all are welcome.\n$10 Suggested Donation
URL:https://headq.org/event/sri-vidya-tantra-yoga-meditation-class/2026-06-09/
LOCATION:Aspen Chapel\, 77 Meadowood Drive\, Aspen\, CO\, 81611
CATEGORIES:Community Event
ATTACH;FMTTYPE=image/jpeg:https://headq.org/wp-content/uploads/2024/09/Chapel-Meditation-scaled.jpg
END:VEVENT
BEGIN:VEVENT
DTSTART;TZID=America/Denver:20260616T083000
DTEND;TZID=America/Denver:20260616T093000
DTSTAMP:20260420T155634
CREATED:20240305T185429Z
LAST-MODIFIED:20240726T220456Z
UID:10000854-1781598600-1781602200@headq.org
SUMMARY:Meditation - The Gallery Zendo at the Aspen Chapel
DESCRIPTION:A weekly meditation class with Nicholas Vesey\, with instruction in the Zen Tradition.
URL:https://headq.org/event/meditation-the-gallery-zendo-at-the-aspen-chapel/2026-06-16/
LOCATION:Aspen Chapel\, 77 Meadowood Drive\, Aspen\, CO\, 81611
CATEGORIES:Community Event
ATTACH;FMTTYPE=image/png:https://headq.org/wp-content/uploads/2024/02/Meditation-Ad.png
END:VEVENT
BEGIN:VEVENT
DTSTART;TZID=America/Denver:20260616T174500
DTEND;TZID=America/Denver:20260616T191500
DTSTAMP:20260420T155634
CREATED:20241002T172116Z
LAST-MODIFIED:20241002T220518Z
UID:10002779-1781631900-1781637300@headq.org
SUMMARY:Sri Vidya Tantra Yoga & Meditation Class
DESCRIPTION:Taught by the Mother-Daughter Team\, Mimi Hauenstein and Mary Cate Hauenstein \nExperience a transformative yoga and meditation class rooted in the ancient Sri Vidya Tantra yoga lineage. Led by the mother-daughter duo\, Mimi and Mary Cate\, this class takes place in the serene golden light of the Aspen Chapel sanctuary\, creating a peaceful and sacred atmosphere. Suitable for all levels\, it’s a unique opportunity to deepen your connection to yourself through the timeless wisdom of Sri Vidya Tantra. \nAll props are provided\, all are welcome.\n$10 Suggested Donation
URL:https://headq.org/event/sri-vidya-tantra-yoga-meditation-class/2026-06-16/
LOCATION:Aspen Chapel\, 77 Meadowood Drive\, Aspen\, CO\, 81611
CATEGORIES:Community Event
ATTACH;FMTTYPE=image/jpeg:https://headq.org/wp-content/uploads/2024/09/Chapel-Meditation-scaled.jpg
END:VEVENT
BEGIN:VEVENT
DTSTART;TZID=America/Denver:20260623T083000
DTEND;TZID=America/Denver:20260623T093000
DTSTAMP:20260420T155634
CREATED:20240305T185429Z
LAST-MODIFIED:20240726T220456Z
UID:10000855-1782203400-1782207000@headq.org
SUMMARY:Meditation - The Gallery Zendo at the Aspen Chapel
DESCRIPTION:A weekly meditation class with Nicholas Vesey\, with instruction in the Zen Tradition.
URL:https://headq.org/event/meditation-the-gallery-zendo-at-the-aspen-chapel/2026-06-23/
LOCATION:Aspen Chapel\, 77 Meadowood Drive\, Aspen\, CO\, 81611
CATEGORIES:Community Event
ATTACH;FMTTYPE=image/png:https://headq.org/wp-content/uploads/2024/02/Meditation-Ad.png
END:VEVENT
BEGIN:VEVENT
DTSTART;TZID=America/Denver:20260623T174500
DTEND;TZID=America/Denver:20260623T191500
DTSTAMP:20260420T155634
CREATED:20241002T172116Z
LAST-MODIFIED:20241002T220518Z
UID:10002780-1782236700-1782242100@headq.org
SUMMARY:Sri Vidya Tantra Yoga & Meditation Class
DESCRIPTION:Taught by the Mother-Daughter Team\, Mimi Hauenstein and Mary Cate Hauenstein \nExperience a transformative yoga and meditation class rooted in the ancient Sri Vidya Tantra yoga lineage. Led by the mother-daughter duo\, Mimi and Mary Cate\, this class takes place in the serene golden light of the Aspen Chapel sanctuary\, creating a peaceful and sacred atmosphere. Suitable for all levels\, it’s a unique opportunity to deepen your connection to yourself through the timeless wisdom of Sri Vidya Tantra. \nAll props are provided\, all are welcome.\n$10 Suggested Donation
URL:https://headq.org/event/sri-vidya-tantra-yoga-meditation-class/2026-06-23/
LOCATION:Aspen Chapel\, 77 Meadowood Drive\, Aspen\, CO\, 81611
CATEGORIES:Community Event
ATTACH;FMTTYPE=image/jpeg:https://headq.org/wp-content/uploads/2024/09/Chapel-Meditation-scaled.jpg
END:VEVENT
BEGIN:VEVENT
DTSTART;TZID=America/Denver:20260630T083000
DTEND;TZID=America/Denver:20260630T093000
DTSTAMP:20260420T155634
CREATED:20240305T185429Z
LAST-MODIFIED:20240726T220456Z
UID:10000856-1782808200-1782811800@headq.org
SUMMARY:Meditation - The Gallery Zendo at the Aspen Chapel
DESCRIPTION:A weekly meditation class with Nicholas Vesey\, with instruction in the Zen Tradition.
URL:https://headq.org/event/meditation-the-gallery-zendo-at-the-aspen-chapel/2026-06-30/
LOCATION:Aspen Chapel\, 77 Meadowood Drive\, Aspen\, CO\, 81611
CATEGORIES:Community Event
ATTACH;FMTTYPE=image/png:https://headq.org/wp-content/uploads/2024/02/Meditation-Ad.png
END:VEVENT
BEGIN:VEVENT
DTSTART;TZID=America/Denver:20260630T174500
DTEND;TZID=America/Denver:20260630T191500
DTSTAMP:20260420T155634
CREATED:20241002T172116Z
LAST-MODIFIED:20241002T220518Z
UID:10002781-1782841500-1782846900@headq.org
SUMMARY:Sri Vidya Tantra Yoga & Meditation Class
DESCRIPTION:Taught by the Mother-Daughter Team\, Mimi Hauenstein and Mary Cate Hauenstein \nExperience a transformative yoga and meditation class rooted in the ancient Sri Vidya Tantra yoga lineage. Led by the mother-daughter duo\, Mimi and Mary Cate\, this class takes place in the serene golden light of the Aspen Chapel sanctuary\, creating a peaceful and sacred atmosphere. Suitable for all levels\, it’s a unique opportunity to deepen your connection to yourself through the timeless wisdom of Sri Vidya Tantra. \nAll props are provided\, all are welcome.\n$10 Suggested Donation
URL:https://headq.org/event/sri-vidya-tantra-yoga-meditation-class/2026-06-30/
LOCATION:Aspen Chapel\, 77 Meadowood Drive\, Aspen\, CO\, 81611
CATEGORIES:Community Event
ATTACH;FMTTYPE=image/jpeg:https://headq.org/wp-content/uploads/2024/09/Chapel-Meditation-scaled.jpg
END:VEVENT
BEGIN:VEVENT
DTSTART;TZID=America/Denver:20260707T083000
DTEND;TZID=America/Denver:20260707T093000
DTSTAMP:20260420T155634
CREATED:20240305T185429Z
LAST-MODIFIED:20240726T220456Z
UID:10000857-1783413000-1783416600@headq.org
SUMMARY:Meditation - The Gallery Zendo at the Aspen Chapel
DESCRIPTION:A weekly meditation class with Nicholas Vesey\, with instruction in the Zen Tradition.
URL:https://headq.org/event/meditation-the-gallery-zendo-at-the-aspen-chapel/2026-07-07/
LOCATION:Aspen Chapel\, 77 Meadowood Drive\, Aspen\, CO\, 81611
CATEGORIES:Community Event
ATTACH;FMTTYPE=image/png:https://headq.org/wp-content/uploads/2024/02/Meditation-Ad.png
END:VEVENT
BEGIN:VEVENT
DTSTART;TZID=America/Denver:20260707T174500
DTEND;TZID=America/Denver:20260707T191500
DTSTAMP:20260420T155634
CREATED:20241002T172116Z
LAST-MODIFIED:20241002T220518Z
UID:10002782-1783446300-1783451700@headq.org
SUMMARY:Sri Vidya Tantra Yoga & Meditation Class
DESCRIPTION:Taught by the Mother-Daughter Team\, Mimi Hauenstein and Mary Cate Hauenstein \nExperience a transformative yoga and meditation class rooted in the ancient Sri Vidya Tantra yoga lineage. Led by the mother-daughter duo\, Mimi and Mary Cate\, this class takes place in the serene golden light of the Aspen Chapel sanctuary\, creating a peaceful and sacred atmosphere. Suitable for all levels\, it’s a unique opportunity to deepen your connection to yourself through the timeless wisdom of Sri Vidya Tantra. \nAll props are provided\, all are welcome.\n$10 Suggested Donation
URL:https://headq.org/event/sri-vidya-tantra-yoga-meditation-class/2026-07-07/
LOCATION:Aspen Chapel\, 77 Meadowood Drive\, Aspen\, CO\, 81611
CATEGORIES:Community Event
ATTACH;FMTTYPE=image/jpeg:https://headq.org/wp-content/uploads/2024/09/Chapel-Meditation-scaled.jpg
END:VEVENT
BEGIN:VEVENT
DTSTART;TZID=America/Denver:20260714T083000
DTEND;TZID=America/Denver:20260714T093000
DTSTAMP:20260420T155634
CREATED:20240305T185429Z
LAST-MODIFIED:20240726T220456Z
UID:10000858-1784017800-1784021400@headq.org
SUMMARY:Meditation - The Gallery Zendo at the Aspen Chapel
DESCRIPTION:A weekly meditation class with Nicholas Vesey\, with instruction in the Zen Tradition.
URL:https://headq.org/event/meditation-the-gallery-zendo-at-the-aspen-chapel/2026-07-14/
LOCATION:Aspen Chapel\, 77 Meadowood Drive\, Aspen\, CO\, 81611
CATEGORIES:Community Event
ATTACH;FMTTYPE=image/png:https://headq.org/wp-content/uploads/2024/02/Meditation-Ad.png
END:VEVENT
BEGIN:VEVENT
DTSTART;TZID=America/Denver:20260714T174500
DTEND;TZID=America/Denver:20260714T191500
DTSTAMP:20260420T155634
CREATED:20241002T172116Z
LAST-MODIFIED:20241002T220518Z
UID:10002783-1784051100-1784056500@headq.org
SUMMARY:Sri Vidya Tantra Yoga & Meditation Class
DESCRIPTION:Taught by the Mother-Daughter Team\, Mimi Hauenstein and Mary Cate Hauenstein \nExperience a transformative yoga and meditation class rooted in the ancient Sri Vidya Tantra yoga lineage. Led by the mother-daughter duo\, Mimi and Mary Cate\, this class takes place in the serene golden light of the Aspen Chapel sanctuary\, creating a peaceful and sacred atmosphere. Suitable for all levels\, it’s a unique opportunity to deepen your connection to yourself through the timeless wisdom of Sri Vidya Tantra. \nAll props are provided\, all are welcome.\n$10 Suggested Donation
URL:https://headq.org/event/sri-vidya-tantra-yoga-meditation-class/2026-07-14/
LOCATION:Aspen Chapel\, 77 Meadowood Drive\, Aspen\, CO\, 81611
CATEGORIES:Community Event
ATTACH;FMTTYPE=image/jpeg:https://headq.org/wp-content/uploads/2024/09/Chapel-Meditation-scaled.jpg
END:VEVENT
BEGIN:VEVENT
DTSTART;TZID=America/Denver:20260721T083000
DTEND;TZID=America/Denver:20260721T093000
DTSTAMP:20260420T155634
CREATED:20240305T185429Z
LAST-MODIFIED:20240726T220456Z
UID:10000859-1784622600-1784626200@headq.org
SUMMARY:Meditation - The Gallery Zendo at the Aspen Chapel
DESCRIPTION:A weekly meditation class with Nicholas Vesey\, with instruction in the Zen Tradition.
URL:https://headq.org/event/meditation-the-gallery-zendo-at-the-aspen-chapel/2026-07-21/
LOCATION:Aspen Chapel\, 77 Meadowood Drive\, Aspen\, CO\, 81611
CATEGORIES:Community Event
ATTACH;FMTTYPE=image/png:https://headq.org/wp-content/uploads/2024/02/Meditation-Ad.png
END:VEVENT
BEGIN:VEVENT
DTSTART;TZID=America/Denver:20260721T174500
DTEND;TZID=America/Denver:20260721T191500
DTSTAMP:20260420T155634
CREATED:20241002T172116Z
LAST-MODIFIED:20241002T220518Z
UID:10002784-1784655900-1784661300@headq.org
SUMMARY:Sri Vidya Tantra Yoga & Meditation Class
DESCRIPTION:Taught by the Mother-Daughter Team\, Mimi Hauenstein and Mary Cate Hauenstein \nExperience a transformative yoga and meditation class rooted in the ancient Sri Vidya Tantra yoga lineage. Led by the mother-daughter duo\, Mimi and Mary Cate\, this class takes place in the serene golden light of the Aspen Chapel sanctuary\, creating a peaceful and sacred atmosphere. Suitable for all levels\, it’s a unique opportunity to deepen your connection to yourself through the timeless wisdom of Sri Vidya Tantra. \nAll props are provided\, all are welcome.\n$10 Suggested Donation
URL:https://headq.org/event/sri-vidya-tantra-yoga-meditation-class/2026-07-21/
LOCATION:Aspen Chapel\, 77 Meadowood Drive\, Aspen\, CO\, 81611
CATEGORIES:Community Event
ATTACH;FMTTYPE=image/jpeg:https://headq.org/wp-content/uploads/2024/09/Chapel-Meditation-scaled.jpg
END:VEVENT
BEGIN:VEVENT
DTSTART;TZID=America/Denver:20260728T083000
DTEND;TZID=America/Denver:20260728T093000
DTSTAMP:20260420T155634
CREATED:20240305T185429Z
LAST-MODIFIED:20240726T220456Z
UID:10000860-1785227400-1785231000@headq.org
SUMMARY:Meditation - The Gallery Zendo at the Aspen Chapel
DESCRIPTION:A weekly meditation class with Nicholas Vesey\, with instruction in the Zen Tradition.
URL:https://headq.org/event/meditation-the-gallery-zendo-at-the-aspen-chapel/2026-07-28/
LOCATION:Aspen Chapel\, 77 Meadowood Drive\, Aspen\, CO\, 81611
CATEGORIES:Community Event
ATTACH;FMTTYPE=image/png:https://headq.org/wp-content/uploads/2024/02/Meditation-Ad.png
END:VEVENT
BEGIN:VEVENT
DTSTART;TZID=America/Denver:20260728T174500
DTEND;TZID=America/Denver:20260728T191500
DTSTAMP:20260420T155634
CREATED:20241002T172116Z
LAST-MODIFIED:20241002T220518Z
UID:10002785-1785260700-1785266100@headq.org
SUMMARY:Sri Vidya Tantra Yoga & Meditation Class
DESCRIPTION:Taught by the Mother-Daughter Team\, Mimi Hauenstein and Mary Cate Hauenstein \nExperience a transformative yoga and meditation class rooted in the ancient Sri Vidya Tantra yoga lineage. Led by the mother-daughter duo\, Mimi and Mary Cate\, this class takes place in the serene golden light of the Aspen Chapel sanctuary\, creating a peaceful and sacred atmosphere. Suitable for all levels\, it’s a unique opportunity to deepen your connection to yourself through the timeless wisdom of Sri Vidya Tantra. \nAll props are provided\, all are welcome.\n$10 Suggested Donation
URL:https://headq.org/event/sri-vidya-tantra-yoga-meditation-class/2026-07-28/
LOCATION:Aspen Chapel\, 77 Meadowood Drive\, Aspen\, CO\, 81611
CATEGORIES:Community Event
ATTACH;FMTTYPE=image/jpeg:https://headq.org/wp-content/uploads/2024/09/Chapel-Meditation-scaled.jpg
END:VEVENT
BEGIN:VEVENT
DTSTART;TZID=America/Denver:20260804T083000
DTEND;TZID=America/Denver:20260804T093000
DTSTAMP:20260420T155634
CREATED:20240305T185429Z
LAST-MODIFIED:20240726T220456Z
UID:10000861-1785832200-1785835800@headq.org
SUMMARY:Meditation - The Gallery Zendo at the Aspen Chapel
DESCRIPTION:A weekly meditation class with Nicholas Vesey\, with instruction in the Zen Tradition.
URL:https://headq.org/event/meditation-the-gallery-zendo-at-the-aspen-chapel/2026-08-04/
LOCATION:Aspen Chapel\, 77 Meadowood Drive\, Aspen\, CO\, 81611
CATEGORIES:Community Event
ATTACH;FMTTYPE=image/png:https://headq.org/wp-content/uploads/2024/02/Meditation-Ad.png
END:VEVENT
BEGIN:VEVENT
DTSTART;TZID=America/Denver:20260804T174500
DTEND;TZID=America/Denver:20260804T191500
DTSTAMP:20260420T155634
CREATED:20241002T172116Z
LAST-MODIFIED:20241002T220518Z
UID:10002786-1785865500-1785870900@headq.org
SUMMARY:Sri Vidya Tantra Yoga & Meditation Class
DESCRIPTION:Taught by the Mother-Daughter Team\, Mimi Hauenstein and Mary Cate Hauenstein \nExperience a transformative yoga and meditation class rooted in the ancient Sri Vidya Tantra yoga lineage. Led by the mother-daughter duo\, Mimi and Mary Cate\, this class takes place in the serene golden light of the Aspen Chapel sanctuary\, creating a peaceful and sacred atmosphere. Suitable for all levels\, it’s a unique opportunity to deepen your connection to yourself through the timeless wisdom of Sri Vidya Tantra. \nAll props are provided\, all are welcome.\n$10 Suggested Donation
URL:https://headq.org/event/sri-vidya-tantra-yoga-meditation-class/2026-08-04/
LOCATION:Aspen Chapel\, 77 Meadowood Drive\, Aspen\, CO\, 81611
CATEGORIES:Community Event
ATTACH;FMTTYPE=image/jpeg:https://headq.org/wp-content/uploads/2024/09/Chapel-Meditation-scaled.jpg
END:VEVENT
BEGIN:VEVENT
DTSTART;TZID=America/Denver:20260811T083000
DTEND;TZID=America/Denver:20260811T093000
DTSTAMP:20260420T155634
CREATED:20240305T185429Z
LAST-MODIFIED:20240726T220456Z
UID:10000862-1786437000-1786440600@headq.org
SUMMARY:Meditation - The Gallery Zendo at the Aspen Chapel
DESCRIPTION:A weekly meditation class with Nicholas Vesey\, with instruction in the Zen Tradition.
URL:https://headq.org/event/meditation-the-gallery-zendo-at-the-aspen-chapel/2026-08-11/
LOCATION:Aspen Chapel\, 77 Meadowood Drive\, Aspen\, CO\, 81611
CATEGORIES:Community Event
ATTACH;FMTTYPE=image/png:https://headq.org/wp-content/uploads/2024/02/Meditation-Ad.png
END:VEVENT
BEGIN:VEVENT
DTSTART;TZID=America/Denver:20260811T174500
DTEND;TZID=America/Denver:20260811T191500
DTSTAMP:20260420T155634
CREATED:20241002T172116Z
LAST-MODIFIED:20241002T220518Z
UID:10002787-1786470300-1786475700@headq.org
SUMMARY:Sri Vidya Tantra Yoga & Meditation Class
DESCRIPTION:Taught by the Mother-Daughter Team\, Mimi Hauenstein and Mary Cate Hauenstein \nExperience a transformative yoga and meditation class rooted in the ancient Sri Vidya Tantra yoga lineage. Led by the mother-daughter duo\, Mimi and Mary Cate\, this class takes place in the serene golden light of the Aspen Chapel sanctuary\, creating a peaceful and sacred atmosphere. Suitable for all levels\, it’s a unique opportunity to deepen your connection to yourself through the timeless wisdom of Sri Vidya Tantra. \nAll props are provided\, all are welcome.\n$10 Suggested Donation
URL:https://headq.org/event/sri-vidya-tantra-yoga-meditation-class/2026-08-11/
LOCATION:Aspen Chapel\, 77 Meadowood Drive\, Aspen\, CO\, 81611
CATEGORIES:Community Event
ATTACH;FMTTYPE=image/jpeg:https://headq.org/wp-content/uploads/2024/09/Chapel-Meditation-scaled.jpg
END:VEVENT
BEGIN:VEVENT
DTSTART;TZID=America/Denver:20260818T083000
DTEND;TZID=America/Denver:20260818T093000
DTSTAMP:20260420T155634
CREATED:20240305T185429Z
LAST-MODIFIED:20240726T220456Z
UID:10000863-1787041800-1787045400@headq.org
SUMMARY:Meditation - The Gallery Zendo at the Aspen Chapel
DESCRIPTION:A weekly meditation class with Nicholas Vesey\, with instruction in the Zen Tradition.
URL:https://headq.org/event/meditation-the-gallery-zendo-at-the-aspen-chapel/2026-08-18/
LOCATION:Aspen Chapel\, 77 Meadowood Drive\, Aspen\, CO\, 81611
CATEGORIES:Community Event
ATTACH;FMTTYPE=image/png:https://headq.org/wp-content/uploads/2024/02/Meditation-Ad.png
END:VEVENT
BEGIN:VEVENT
DTSTART;TZID=America/Denver:20260818T174500
DTEND;TZID=America/Denver:20260818T191500
DTSTAMP:20260420T155634
CREATED:20241002T172116Z
LAST-MODIFIED:20241002T220518Z
UID:10002788-1787075100-1787080500@headq.org
SUMMARY:Sri Vidya Tantra Yoga & Meditation Class
DESCRIPTION:Taught by the Mother-Daughter Team\, Mimi Hauenstein and Mary Cate Hauenstein \nExperience a transformative yoga and meditation class rooted in the ancient Sri Vidya Tantra yoga lineage. Led by the mother-daughter duo\, Mimi and Mary Cate\, this class takes place in the serene golden light of the Aspen Chapel sanctuary\, creating a peaceful and sacred atmosphere. Suitable for all levels\, it’s a unique opportunity to deepen your connection to yourself through the timeless wisdom of Sri Vidya Tantra. \nAll props are provided\, all are welcome.\n$10 Suggested Donation
URL:https://headq.org/event/sri-vidya-tantra-yoga-meditation-class/2026-08-18/
LOCATION:Aspen Chapel\, 77 Meadowood Drive\, Aspen\, CO\, 81611
CATEGORIES:Community Event
ATTACH;FMTTYPE=image/jpeg:https://headq.org/wp-content/uploads/2024/09/Chapel-Meditation-scaled.jpg
END:VEVENT
BEGIN:VEVENT
DTSTART;TZID=America/Denver:20260825T083000
DTEND;TZID=America/Denver:20260825T093000
DTSTAMP:20260420T155634
CREATED:20240305T185429Z
LAST-MODIFIED:20240726T220456Z
UID:10000864-1787646600-1787650200@headq.org
SUMMARY:Meditation - The Gallery Zendo at the Aspen Chapel
DESCRIPTION:A weekly meditation class with Nicholas Vesey\, with instruction in the Zen Tradition.
URL:https://headq.org/event/meditation-the-gallery-zendo-at-the-aspen-chapel/2026-08-25/
LOCATION:Aspen Chapel\, 77 Meadowood Drive\, Aspen\, CO\, 81611
CATEGORIES:Community Event
ATTACH;FMTTYPE=image/png:https://headq.org/wp-content/uploads/2024/02/Meditation-Ad.png
END:VEVENT
BEGIN:VEVENT
DTSTART;TZID=America/Denver:20260825T174500
DTEND;TZID=America/Denver:20260825T191500
DTSTAMP:20260420T155634
CREATED:20241002T172116Z
LAST-MODIFIED:20241002T220518Z
UID:10002789-1787679900-1787685300@headq.org
SUMMARY:Sri Vidya Tantra Yoga & Meditation Class
DESCRIPTION:Taught by the Mother-Daughter Team\, Mimi Hauenstein and Mary Cate Hauenstein \nExperience a transformative yoga and meditation class rooted in the ancient Sri Vidya Tantra yoga lineage. Led by the mother-daughter duo\, Mimi and Mary Cate\, this class takes place in the serene golden light of the Aspen Chapel sanctuary\, creating a peaceful and sacred atmosphere. Suitable for all levels\, it’s a unique opportunity to deepen your connection to yourself through the timeless wisdom of Sri Vidya Tantra. \nAll props are provided\, all are welcome.\n$10 Suggested Donation
URL:https://headq.org/event/sri-vidya-tantra-yoga-meditation-class/2026-08-25/
LOCATION:Aspen Chapel\, 77 Meadowood Drive\, Aspen\, CO\, 81611
CATEGORIES:Community Event
ATTACH;FMTTYPE=image/jpeg:https://headq.org/wp-content/uploads/2024/09/Chapel-Meditation-scaled.jpg
END:VEVENT
BEGIN:VEVENT
DTSTART;TZID=America/Denver:20260901T083000
DTEND;TZID=America/Denver:20260901T093000
DTSTAMP:20260420T155634
CREATED:20240305T185429Z
LAST-MODIFIED:20240726T220456Z
UID:10000865-1788251400-1788255000@headq.org
SUMMARY:Meditation - The Gallery Zendo at the Aspen Chapel
DESCRIPTION:A weekly meditation class with Nicholas Vesey\, with instruction in the Zen Tradition.
URL:https://headq.org/event/meditation-the-gallery-zendo-at-the-aspen-chapel/2026-09-01/
LOCATION:Aspen Chapel\, 77 Meadowood Drive\, Aspen\, CO\, 81611
CATEGORIES:Community Event
ATTACH;FMTTYPE=image/png:https://headq.org/wp-content/uploads/2024/02/Meditation-Ad.png
END:VEVENT
BEGIN:VEVENT
DTSTART;TZID=America/Denver:20260901T174500
DTEND;TZID=America/Denver:20260901T191500
DTSTAMP:20260420T155634
CREATED:20241002T172116Z
LAST-MODIFIED:20241002T220518Z
UID:10002790-1788284700-1788290100@headq.org
SUMMARY:Sri Vidya Tantra Yoga & Meditation Class
DESCRIPTION:Taught by the Mother-Daughter Team\, Mimi Hauenstein and Mary Cate Hauenstein \nExperience a transformative yoga and meditation class rooted in the ancient Sri Vidya Tantra yoga lineage. Led by the mother-daughter duo\, Mimi and Mary Cate\, this class takes place in the serene golden light of the Aspen Chapel sanctuary\, creating a peaceful and sacred atmosphere. Suitable for all levels\, it’s a unique opportunity to deepen your connection to yourself through the timeless wisdom of Sri Vidya Tantra. \nAll props are provided\, all are welcome.\n$10 Suggested Donation
URL:https://headq.org/event/sri-vidya-tantra-yoga-meditation-class/2026-09-01/
LOCATION:Aspen Chapel\, 77 Meadowood Drive\, Aspen\, CO\, 81611
CATEGORIES:Community Event
ATTACH;FMTTYPE=image/jpeg:https://headq.org/wp-content/uploads/2024/09/Chapel-Meditation-scaled.jpg
END:VEVENT
BEGIN:VEVENT
DTSTART;TZID=America/Denver:20260908T083000
DTEND;TZID=America/Denver:20260908T093000
DTSTAMP:20260420T155634
CREATED:20240305T185429Z
LAST-MODIFIED:20240726T220456Z
UID:10000866-1788856200-1788859800@headq.org
SUMMARY:Meditation - The Gallery Zendo at the Aspen Chapel
DESCRIPTION:A weekly meditation class with Nicholas Vesey\, with instruction in the Zen Tradition.
URL:https://headq.org/event/meditation-the-gallery-zendo-at-the-aspen-chapel/2026-09-08/
LOCATION:Aspen Chapel\, 77 Meadowood Drive\, Aspen\, CO\, 81611
CATEGORIES:Community Event
ATTACH;FMTTYPE=image/png:https://headq.org/wp-content/uploads/2024/02/Meditation-Ad.png
END:VEVENT
BEGIN:VEVENT
DTSTART;TZID=America/Denver:20260908T174500
DTEND;TZID=America/Denver:20260908T191500
DTSTAMP:20260420T155634
CREATED:20241002T172116Z
LAST-MODIFIED:20241002T220518Z
UID:10002791-1788889500-1788894900@headq.org
SUMMARY:Sri Vidya Tantra Yoga & Meditation Class
DESCRIPTION:Taught by the Mother-Daughter Team\, Mimi Hauenstein and Mary Cate Hauenstein \nExperience a transformative yoga and meditation class rooted in the ancient Sri Vidya Tantra yoga lineage. Led by the mother-daughter duo\, Mimi and Mary Cate\, this class takes place in the serene golden light of the Aspen Chapel sanctuary\, creating a peaceful and sacred atmosphere. Suitable for all levels\, it’s a unique opportunity to deepen your connection to yourself through the timeless wisdom of Sri Vidya Tantra. \nAll props are provided\, all are welcome.\n$10 Suggested Donation
URL:https://headq.org/event/sri-vidya-tantra-yoga-meditation-class/2026-09-08/
LOCATION:Aspen Chapel\, 77 Meadowood Drive\, Aspen\, CO\, 81611
CATEGORIES:Community Event
ATTACH;FMTTYPE=image/jpeg:https://headq.org/wp-content/uploads/2024/09/Chapel-Meditation-scaled.jpg
END:VEVENT
END:VCALENDAR