BEGIN:VCALENDAR
VERSION:2.0
PRODID:-//HeadQuarters - ECPv6.15.1.1//NONSGML v1.0//EN
CALSCALE:GREGORIAN
METHOD:PUBLISH
X-WR-CALNAME:HeadQuarters
X-ORIGINAL-URL:https://headq.org
X-WR-CALDESC:Events for HeadQuarters
REFRESH-INTERVAL;VALUE=DURATION:PT1H
X-Robots-Tag:noindex
X-PUBLISHED-TTL:PT1H
BEGIN:VTIMEZONE
TZID:America/Denver
BEGIN:DAYLIGHT
TZOFFSETFROM:-0700
TZOFFSETTO:-0600
TZNAME:MDT
DTSTART:20260308T090000
END:DAYLIGHT
BEGIN:STANDARD
TZOFFSETFROM:-0600
TZOFFSETTO:-0700
TZNAME:MST
DTSTART:20261101T080000
END:STANDARD
END:VTIMEZONE
BEGIN:VEVENT
DTSTART;TZID=America/Denver:20260825T083000
DTEND;TZID=America/Denver:20260825T093000
DTSTAMP:20260420T171947
CREATED:20240305T185429Z
LAST-MODIFIED:20240726T220456Z
UID:10000864-1787646600-1787650200@headq.org
SUMMARY:Meditation - The Gallery Zendo at the Aspen Chapel
DESCRIPTION:A weekly meditation class with Nicholas Vesey\, with instruction in the Zen Tradition.
URL:https://headq.org/event/meditation-the-gallery-zendo-at-the-aspen-chapel/2026-08-25/
LOCATION:Aspen Chapel\, 77 Meadowood Drive\, Aspen\, CO\, 81611
CATEGORIES:Community Event
ATTACH;FMTTYPE=image/png:https://headq.org/wp-content/uploads/2024/02/Meditation-Ad.png
END:VEVENT
BEGIN:VEVENT
DTSTART;TZID=America/Denver:20260825T174500
DTEND;TZID=America/Denver:20260825T191500
DTSTAMP:20260420T171947
CREATED:20241002T172116Z
LAST-MODIFIED:20241002T220518Z
UID:10002789-1787679900-1787685300@headq.org
SUMMARY:Sri Vidya Tantra Yoga & Meditation Class
DESCRIPTION:Taught by the Mother-Daughter Team\, Mimi Hauenstein and Mary Cate Hauenstein \nExperience a transformative yoga and meditation class rooted in the ancient Sri Vidya Tantra yoga lineage. Led by the mother-daughter duo\, Mimi and Mary Cate\, this class takes place in the serene golden light of the Aspen Chapel sanctuary\, creating a peaceful and sacred atmosphere. Suitable for all levels\, it’s a unique opportunity to deepen your connection to yourself through the timeless wisdom of Sri Vidya Tantra. \nAll props are provided\, all are welcome.\n$10 Suggested Donation
URL:https://headq.org/event/sri-vidya-tantra-yoga-meditation-class/2026-08-25/
LOCATION:Aspen Chapel\, 77 Meadowood Drive\, Aspen\, CO\, 81611
CATEGORIES:Community Event
ATTACH;FMTTYPE=image/jpeg:https://headq.org/wp-content/uploads/2024/09/Chapel-Meditation-scaled.jpg
END:VEVENT
BEGIN:VEVENT
DTSTART;TZID=America/Denver:20260901T083000
DTEND;TZID=America/Denver:20260901T093000
DTSTAMP:20260420T171947
CREATED:20240305T185429Z
LAST-MODIFIED:20240726T220456Z
UID:10000865-1788251400-1788255000@headq.org
SUMMARY:Meditation - The Gallery Zendo at the Aspen Chapel
DESCRIPTION:A weekly meditation class with Nicholas Vesey\, with instruction in the Zen Tradition.
URL:https://headq.org/event/meditation-the-gallery-zendo-at-the-aspen-chapel/2026-09-01/
LOCATION:Aspen Chapel\, 77 Meadowood Drive\, Aspen\, CO\, 81611
CATEGORIES:Community Event
ATTACH;FMTTYPE=image/png:https://headq.org/wp-content/uploads/2024/02/Meditation-Ad.png
END:VEVENT
BEGIN:VEVENT
DTSTART;TZID=America/Denver:20260901T174500
DTEND;TZID=America/Denver:20260901T191500
DTSTAMP:20260420T171947
CREATED:20241002T172116Z
LAST-MODIFIED:20241002T220518Z
UID:10002790-1788284700-1788290100@headq.org
SUMMARY:Sri Vidya Tantra Yoga & Meditation Class
DESCRIPTION:Taught by the Mother-Daughter Team\, Mimi Hauenstein and Mary Cate Hauenstein \nExperience a transformative yoga and meditation class rooted in the ancient Sri Vidya Tantra yoga lineage. Led by the mother-daughter duo\, Mimi and Mary Cate\, this class takes place in the serene golden light of the Aspen Chapel sanctuary\, creating a peaceful and sacred atmosphere. Suitable for all levels\, it’s a unique opportunity to deepen your connection to yourself through the timeless wisdom of Sri Vidya Tantra. \nAll props are provided\, all are welcome.\n$10 Suggested Donation
URL:https://headq.org/event/sri-vidya-tantra-yoga-meditation-class/2026-09-01/
LOCATION:Aspen Chapel\, 77 Meadowood Drive\, Aspen\, CO\, 81611
CATEGORIES:Community Event
ATTACH;FMTTYPE=image/jpeg:https://headq.org/wp-content/uploads/2024/09/Chapel-Meditation-scaled.jpg
END:VEVENT
BEGIN:VEVENT
DTSTART;TZID=America/Denver:20260908T083000
DTEND;TZID=America/Denver:20260908T093000
DTSTAMP:20260420T171947
CREATED:20240305T185429Z
LAST-MODIFIED:20240726T220456Z
UID:10000866-1788856200-1788859800@headq.org
SUMMARY:Meditation - The Gallery Zendo at the Aspen Chapel
DESCRIPTION:A weekly meditation class with Nicholas Vesey\, with instruction in the Zen Tradition.
URL:https://headq.org/event/meditation-the-gallery-zendo-at-the-aspen-chapel/2026-09-08/
LOCATION:Aspen Chapel\, 77 Meadowood Drive\, Aspen\, CO\, 81611
CATEGORIES:Community Event
ATTACH;FMTTYPE=image/png:https://headq.org/wp-content/uploads/2024/02/Meditation-Ad.png
END:VEVENT
BEGIN:VEVENT
DTSTART;TZID=America/Denver:20260908T174500
DTEND;TZID=America/Denver:20260908T191500
DTSTAMP:20260420T171947
CREATED:20241002T172116Z
LAST-MODIFIED:20241002T220518Z
UID:10002791-1788889500-1788894900@headq.org
SUMMARY:Sri Vidya Tantra Yoga & Meditation Class
DESCRIPTION:Taught by the Mother-Daughter Team\, Mimi Hauenstein and Mary Cate Hauenstein \nExperience a transformative yoga and meditation class rooted in the ancient Sri Vidya Tantra yoga lineage. Led by the mother-daughter duo\, Mimi and Mary Cate\, this class takes place in the serene golden light of the Aspen Chapel sanctuary\, creating a peaceful and sacred atmosphere. Suitable for all levels\, it’s a unique opportunity to deepen your connection to yourself through the timeless wisdom of Sri Vidya Tantra. \nAll props are provided\, all are welcome.\n$10 Suggested Donation
URL:https://headq.org/event/sri-vidya-tantra-yoga-meditation-class/2026-09-08/
LOCATION:Aspen Chapel\, 77 Meadowood Drive\, Aspen\, CO\, 81611
CATEGORIES:Community Event
ATTACH;FMTTYPE=image/jpeg:https://headq.org/wp-content/uploads/2024/09/Chapel-Meditation-scaled.jpg
END:VEVENT
BEGIN:VEVENT
DTSTART;TZID=America/Denver:20260915T083000
DTEND;TZID=America/Denver:20260915T093000
DTSTAMP:20260420T171947
CREATED:20240305T185429Z
LAST-MODIFIED:20240726T220456Z
UID:10000867-1789461000-1789464600@headq.org
SUMMARY:Meditation - The Gallery Zendo at the Aspen Chapel
DESCRIPTION:A weekly meditation class with Nicholas Vesey\, with instruction in the Zen Tradition.
URL:https://headq.org/event/meditation-the-gallery-zendo-at-the-aspen-chapel/2026-09-15/
LOCATION:Aspen Chapel\, 77 Meadowood Drive\, Aspen\, CO\, 81611
CATEGORIES:Community Event
ATTACH;FMTTYPE=image/png:https://headq.org/wp-content/uploads/2024/02/Meditation-Ad.png
END:VEVENT
BEGIN:VEVENT
DTSTART;TZID=America/Denver:20260915T174500
DTEND;TZID=America/Denver:20260915T191500
DTSTAMP:20260420T171947
CREATED:20241002T172116Z
LAST-MODIFIED:20241002T220518Z
UID:10002792-1789494300-1789499700@headq.org
SUMMARY:Sri Vidya Tantra Yoga & Meditation Class
DESCRIPTION:Taught by the Mother-Daughter Team\, Mimi Hauenstein and Mary Cate Hauenstein \nExperience a transformative yoga and meditation class rooted in the ancient Sri Vidya Tantra yoga lineage. Led by the mother-daughter duo\, Mimi and Mary Cate\, this class takes place in the serene golden light of the Aspen Chapel sanctuary\, creating a peaceful and sacred atmosphere. Suitable for all levels\, it’s a unique opportunity to deepen your connection to yourself through the timeless wisdom of Sri Vidya Tantra. \nAll props are provided\, all are welcome.\n$10 Suggested Donation
URL:https://headq.org/event/sri-vidya-tantra-yoga-meditation-class/2026-09-15/
LOCATION:Aspen Chapel\, 77 Meadowood Drive\, Aspen\, CO\, 81611
CATEGORIES:Community Event
ATTACH;FMTTYPE=image/jpeg:https://headq.org/wp-content/uploads/2024/09/Chapel-Meditation-scaled.jpg
END:VEVENT
BEGIN:VEVENT
DTSTART;TZID=America/Denver:20260922T083000
DTEND;TZID=America/Denver:20260922T093000
DTSTAMP:20260420T171947
CREATED:20240305T185429Z
LAST-MODIFIED:20240726T220456Z
UID:10000868-1790065800-1790069400@headq.org
SUMMARY:Meditation - The Gallery Zendo at the Aspen Chapel
DESCRIPTION:A weekly meditation class with Nicholas Vesey\, with instruction in the Zen Tradition.
URL:https://headq.org/event/meditation-the-gallery-zendo-at-the-aspen-chapel/2026-09-22/
LOCATION:Aspen Chapel\, 77 Meadowood Drive\, Aspen\, CO\, 81611
CATEGORIES:Community Event
ATTACH;FMTTYPE=image/png:https://headq.org/wp-content/uploads/2024/02/Meditation-Ad.png
END:VEVENT
BEGIN:VEVENT
DTSTART;TZID=America/Denver:20260922T174500
DTEND;TZID=America/Denver:20260922T191500
DTSTAMP:20260420T171947
CREATED:20241002T172116Z
LAST-MODIFIED:20241002T220518Z
UID:10002793-1790099100-1790104500@headq.org
SUMMARY:Sri Vidya Tantra Yoga & Meditation Class
DESCRIPTION:Taught by the Mother-Daughter Team\, Mimi Hauenstein and Mary Cate Hauenstein \nExperience a transformative yoga and meditation class rooted in the ancient Sri Vidya Tantra yoga lineage. Led by the mother-daughter duo\, Mimi and Mary Cate\, this class takes place in the serene golden light of the Aspen Chapel sanctuary\, creating a peaceful and sacred atmosphere. Suitable for all levels\, it’s a unique opportunity to deepen your connection to yourself through the timeless wisdom of Sri Vidya Tantra. \nAll props are provided\, all are welcome.\n$10 Suggested Donation
URL:https://headq.org/event/sri-vidya-tantra-yoga-meditation-class/2026-09-22/
LOCATION:Aspen Chapel\, 77 Meadowood Drive\, Aspen\, CO\, 81611
CATEGORIES:Community Event
ATTACH;FMTTYPE=image/jpeg:https://headq.org/wp-content/uploads/2024/09/Chapel-Meditation-scaled.jpg
END:VEVENT
BEGIN:VEVENT
DTSTART;TZID=America/Denver:20260929T083000
DTEND;TZID=America/Denver:20260929T093000
DTSTAMP:20260420T171947
CREATED:20240305T185429Z
LAST-MODIFIED:20240726T220456Z
UID:10000869-1790670600-1790674200@headq.org
SUMMARY:Meditation - The Gallery Zendo at the Aspen Chapel
DESCRIPTION:A weekly meditation class with Nicholas Vesey\, with instruction in the Zen Tradition.
URL:https://headq.org/event/meditation-the-gallery-zendo-at-the-aspen-chapel/2026-09-29/
LOCATION:Aspen Chapel\, 77 Meadowood Drive\, Aspen\, CO\, 81611
CATEGORIES:Community Event
ATTACH;FMTTYPE=image/png:https://headq.org/wp-content/uploads/2024/02/Meditation-Ad.png
END:VEVENT
BEGIN:VEVENT
DTSTART;TZID=America/Denver:20260929T174500
DTEND;TZID=America/Denver:20260929T191500
DTSTAMP:20260420T171947
CREATED:20241002T172116Z
LAST-MODIFIED:20241002T220518Z
UID:10002794-1790703900-1790709300@headq.org
SUMMARY:Sri Vidya Tantra Yoga & Meditation Class
DESCRIPTION:Taught by the Mother-Daughter Team\, Mimi Hauenstein and Mary Cate Hauenstein \nExperience a transformative yoga and meditation class rooted in the ancient Sri Vidya Tantra yoga lineage. Led by the mother-daughter duo\, Mimi and Mary Cate\, this class takes place in the serene golden light of the Aspen Chapel sanctuary\, creating a peaceful and sacred atmosphere. Suitable for all levels\, it’s a unique opportunity to deepen your connection to yourself through the timeless wisdom of Sri Vidya Tantra. \nAll props are provided\, all are welcome.\n$10 Suggested Donation
URL:https://headq.org/event/sri-vidya-tantra-yoga-meditation-class/2026-09-29/
LOCATION:Aspen Chapel\, 77 Meadowood Drive\, Aspen\, CO\, 81611
CATEGORIES:Community Event
ATTACH;FMTTYPE=image/jpeg:https://headq.org/wp-content/uploads/2024/09/Chapel-Meditation-scaled.jpg
END:VEVENT
BEGIN:VEVENT
DTSTART;TZID=America/Denver:20261006T083000
DTEND;TZID=America/Denver:20261006T093000
DTSTAMP:20260420T171947
CREATED:20240305T185429Z
LAST-MODIFIED:20240726T220456Z
UID:10000870-1791275400-1791279000@headq.org
SUMMARY:Meditation - The Gallery Zendo at the Aspen Chapel
DESCRIPTION:A weekly meditation class with Nicholas Vesey\, with instruction in the Zen Tradition.
URL:https://headq.org/event/meditation-the-gallery-zendo-at-the-aspen-chapel/2026-10-06/
LOCATION:Aspen Chapel\, 77 Meadowood Drive\, Aspen\, CO\, 81611
CATEGORIES:Community Event
ATTACH;FMTTYPE=image/png:https://headq.org/wp-content/uploads/2024/02/Meditation-Ad.png
END:VEVENT
BEGIN:VEVENT
DTSTART;TZID=America/Denver:20261006T174500
DTEND;TZID=America/Denver:20261006T191500
DTSTAMP:20260420T171947
CREATED:20241002T172116Z
LAST-MODIFIED:20241002T220518Z
UID:10002795-1791308700-1791314100@headq.org
SUMMARY:Sri Vidya Tantra Yoga & Meditation Class
DESCRIPTION:Taught by the Mother-Daughter Team\, Mimi Hauenstein and Mary Cate Hauenstein \nExperience a transformative yoga and meditation class rooted in the ancient Sri Vidya Tantra yoga lineage. Led by the mother-daughter duo\, Mimi and Mary Cate\, this class takes place in the serene golden light of the Aspen Chapel sanctuary\, creating a peaceful and sacred atmosphere. Suitable for all levels\, it’s a unique opportunity to deepen your connection to yourself through the timeless wisdom of Sri Vidya Tantra. \nAll props are provided\, all are welcome.\n$10 Suggested Donation
URL:https://headq.org/event/sri-vidya-tantra-yoga-meditation-class/2026-10-06/
LOCATION:Aspen Chapel\, 77 Meadowood Drive\, Aspen\, CO\, 81611
CATEGORIES:Community Event
ATTACH;FMTTYPE=image/jpeg:https://headq.org/wp-content/uploads/2024/09/Chapel-Meditation-scaled.jpg
END:VEVENT
BEGIN:VEVENT
DTSTART;TZID=America/Denver:20261013T083000
DTEND;TZID=America/Denver:20261013T093000
DTSTAMP:20260420T171947
CREATED:20240305T185429Z
LAST-MODIFIED:20240726T220456Z
UID:10000871-1791880200-1791883800@headq.org
SUMMARY:Meditation - The Gallery Zendo at the Aspen Chapel
DESCRIPTION:A weekly meditation class with Nicholas Vesey\, with instruction in the Zen Tradition.
URL:https://headq.org/event/meditation-the-gallery-zendo-at-the-aspen-chapel/2026-10-13/
LOCATION:Aspen Chapel\, 77 Meadowood Drive\, Aspen\, CO\, 81611
CATEGORIES:Community Event
ATTACH;FMTTYPE=image/png:https://headq.org/wp-content/uploads/2024/02/Meditation-Ad.png
END:VEVENT
BEGIN:VEVENT
DTSTART;TZID=America/Denver:20261013T174500
DTEND;TZID=America/Denver:20261013T191500
DTSTAMP:20260420T171947
CREATED:20241002T172116Z
LAST-MODIFIED:20241002T220518Z
UID:10002796-1791913500-1791918900@headq.org
SUMMARY:Sri Vidya Tantra Yoga & Meditation Class
DESCRIPTION:Taught by the Mother-Daughter Team\, Mimi Hauenstein and Mary Cate Hauenstein \nExperience a transformative yoga and meditation class rooted in the ancient Sri Vidya Tantra yoga lineage. Led by the mother-daughter duo\, Mimi and Mary Cate\, this class takes place in the serene golden light of the Aspen Chapel sanctuary\, creating a peaceful and sacred atmosphere. Suitable for all levels\, it’s a unique opportunity to deepen your connection to yourself through the timeless wisdom of Sri Vidya Tantra. \nAll props are provided\, all are welcome.\n$10 Suggested Donation
URL:https://headq.org/event/sri-vidya-tantra-yoga-meditation-class/2026-10-13/
LOCATION:Aspen Chapel\, 77 Meadowood Drive\, Aspen\, CO\, 81611
CATEGORIES:Community Event
ATTACH;FMTTYPE=image/jpeg:https://headq.org/wp-content/uploads/2024/09/Chapel-Meditation-scaled.jpg
END:VEVENT
BEGIN:VEVENT
DTSTART;TZID=America/Denver:20261020T083000
DTEND;TZID=America/Denver:20261020T093000
DTSTAMP:20260420T171947
CREATED:20240305T185429Z
LAST-MODIFIED:20240726T220456Z
UID:10000872-1792485000-1792488600@headq.org
SUMMARY:Meditation - The Gallery Zendo at the Aspen Chapel
DESCRIPTION:A weekly meditation class with Nicholas Vesey\, with instruction in the Zen Tradition.
URL:https://headq.org/event/meditation-the-gallery-zendo-at-the-aspen-chapel/2026-10-20/
LOCATION:Aspen Chapel\, 77 Meadowood Drive\, Aspen\, CO\, 81611
CATEGORIES:Community Event
ATTACH;FMTTYPE=image/png:https://headq.org/wp-content/uploads/2024/02/Meditation-Ad.png
END:VEVENT
BEGIN:VEVENT
DTSTART;TZID=America/Denver:20261020T174500
DTEND;TZID=America/Denver:20261020T191500
DTSTAMP:20260420T171947
CREATED:20241002T172116Z
LAST-MODIFIED:20241002T220518Z
UID:10002797-1792518300-1792523700@headq.org
SUMMARY:Sri Vidya Tantra Yoga & Meditation Class
DESCRIPTION:Taught by the Mother-Daughter Team\, Mimi Hauenstein and Mary Cate Hauenstein \nExperience a transformative yoga and meditation class rooted in the ancient Sri Vidya Tantra yoga lineage. Led by the mother-daughter duo\, Mimi and Mary Cate\, this class takes place in the serene golden light of the Aspen Chapel sanctuary\, creating a peaceful and sacred atmosphere. Suitable for all levels\, it’s a unique opportunity to deepen your connection to yourself through the timeless wisdom of Sri Vidya Tantra. \nAll props are provided\, all are welcome.\n$10 Suggested Donation
URL:https://headq.org/event/sri-vidya-tantra-yoga-meditation-class/2026-10-20/
LOCATION:Aspen Chapel\, 77 Meadowood Drive\, Aspen\, CO\, 81611
CATEGORIES:Community Event
ATTACH;FMTTYPE=image/jpeg:https://headq.org/wp-content/uploads/2024/09/Chapel-Meditation-scaled.jpg
END:VEVENT
BEGIN:VEVENT
DTSTART;TZID=America/Denver:20261027T083000
DTEND;TZID=America/Denver:20261027T093000
DTSTAMP:20260420T171947
CREATED:20240305T185429Z
LAST-MODIFIED:20240726T220456Z
UID:10000873-1793089800-1793093400@headq.org
SUMMARY:Meditation - The Gallery Zendo at the Aspen Chapel
DESCRIPTION:A weekly meditation class with Nicholas Vesey\, with instruction in the Zen Tradition.
URL:https://headq.org/event/meditation-the-gallery-zendo-at-the-aspen-chapel/2026-10-27/
LOCATION:Aspen Chapel\, 77 Meadowood Drive\, Aspen\, CO\, 81611
CATEGORIES:Community Event
ATTACH;FMTTYPE=image/png:https://headq.org/wp-content/uploads/2024/02/Meditation-Ad.png
END:VEVENT
BEGIN:VEVENT
DTSTART;TZID=America/Denver:20261027T174500
DTEND;TZID=America/Denver:20261027T191500
DTSTAMP:20260420T171947
CREATED:20241002T172116Z
LAST-MODIFIED:20241002T220518Z
UID:10002798-1793123100-1793128500@headq.org
SUMMARY:Sri Vidya Tantra Yoga & Meditation Class
DESCRIPTION:Taught by the Mother-Daughter Team\, Mimi Hauenstein and Mary Cate Hauenstein \nExperience a transformative yoga and meditation class rooted in the ancient Sri Vidya Tantra yoga lineage. Led by the mother-daughter duo\, Mimi and Mary Cate\, this class takes place in the serene golden light of the Aspen Chapel sanctuary\, creating a peaceful and sacred atmosphere. Suitable for all levels\, it’s a unique opportunity to deepen your connection to yourself through the timeless wisdom of Sri Vidya Tantra. \nAll props are provided\, all are welcome.\n$10 Suggested Donation
URL:https://headq.org/event/sri-vidya-tantra-yoga-meditation-class/2026-10-27/
LOCATION:Aspen Chapel\, 77 Meadowood Drive\, Aspen\, CO\, 81611
CATEGORIES:Community Event
ATTACH;FMTTYPE=image/jpeg:https://headq.org/wp-content/uploads/2024/09/Chapel-Meditation-scaled.jpg
END:VEVENT
BEGIN:VEVENT
DTSTART;TZID=America/Denver:20261103T083000
DTEND;TZID=America/Denver:20261103T093000
DTSTAMP:20260420T171947
CREATED:20240305T185429Z
LAST-MODIFIED:20240726T220456Z
UID:10000874-1793694600-1793698200@headq.org
SUMMARY:Meditation - The Gallery Zendo at the Aspen Chapel
DESCRIPTION:A weekly meditation class with Nicholas Vesey\, with instruction in the Zen Tradition.
URL:https://headq.org/event/meditation-the-gallery-zendo-at-the-aspen-chapel/2026-11-03/
LOCATION:Aspen Chapel\, 77 Meadowood Drive\, Aspen\, CO\, 81611
CATEGORIES:Community Event
ATTACH;FMTTYPE=image/png:https://headq.org/wp-content/uploads/2024/02/Meditation-Ad.png
END:VEVENT
BEGIN:VEVENT
DTSTART;TZID=America/Denver:20261103T174500
DTEND;TZID=America/Denver:20261103T191500
DTSTAMP:20260420T171947
CREATED:20241002T172116Z
LAST-MODIFIED:20241002T220518Z
UID:10002799-1793727900-1793733300@headq.org
SUMMARY:Sri Vidya Tantra Yoga & Meditation Class
DESCRIPTION:Taught by the Mother-Daughter Team\, Mimi Hauenstein and Mary Cate Hauenstein \nExperience a transformative yoga and meditation class rooted in the ancient Sri Vidya Tantra yoga lineage. Led by the mother-daughter duo\, Mimi and Mary Cate\, this class takes place in the serene golden light of the Aspen Chapel sanctuary\, creating a peaceful and sacred atmosphere. Suitable for all levels\, it’s a unique opportunity to deepen your connection to yourself through the timeless wisdom of Sri Vidya Tantra. \nAll props are provided\, all are welcome.\n$10 Suggested Donation
URL:https://headq.org/event/sri-vidya-tantra-yoga-meditation-class/2026-11-03/
LOCATION:Aspen Chapel\, 77 Meadowood Drive\, Aspen\, CO\, 81611
CATEGORIES:Community Event
ATTACH;FMTTYPE=image/jpeg:https://headq.org/wp-content/uploads/2024/09/Chapel-Meditation-scaled.jpg
END:VEVENT
BEGIN:VEVENT
DTSTART;TZID=America/Denver:20261110T083000
DTEND;TZID=America/Denver:20261110T093000
DTSTAMP:20260420T171947
CREATED:20240305T185429Z
LAST-MODIFIED:20240726T220456Z
UID:10000875-1794299400-1794303000@headq.org
SUMMARY:Meditation - The Gallery Zendo at the Aspen Chapel
DESCRIPTION:A weekly meditation class with Nicholas Vesey\, with instruction in the Zen Tradition.
URL:https://headq.org/event/meditation-the-gallery-zendo-at-the-aspen-chapel/2026-11-10/
LOCATION:Aspen Chapel\, 77 Meadowood Drive\, Aspen\, CO\, 81611
CATEGORIES:Community Event
ATTACH;FMTTYPE=image/png:https://headq.org/wp-content/uploads/2024/02/Meditation-Ad.png
END:VEVENT
BEGIN:VEVENT
DTSTART;TZID=America/Denver:20261110T174500
DTEND;TZID=America/Denver:20261110T191500
DTSTAMP:20260420T171947
CREATED:20241002T172116Z
LAST-MODIFIED:20241002T220518Z
UID:10002800-1794332700-1794338100@headq.org
SUMMARY:Sri Vidya Tantra Yoga & Meditation Class
DESCRIPTION:Taught by the Mother-Daughter Team\, Mimi Hauenstein and Mary Cate Hauenstein \nExperience a transformative yoga and meditation class rooted in the ancient Sri Vidya Tantra yoga lineage. Led by the mother-daughter duo\, Mimi and Mary Cate\, this class takes place in the serene golden light of the Aspen Chapel sanctuary\, creating a peaceful and sacred atmosphere. Suitable for all levels\, it’s a unique opportunity to deepen your connection to yourself through the timeless wisdom of Sri Vidya Tantra. \nAll props are provided\, all are welcome.\n$10 Suggested Donation
URL:https://headq.org/event/sri-vidya-tantra-yoga-meditation-class/2026-11-10/
LOCATION:Aspen Chapel\, 77 Meadowood Drive\, Aspen\, CO\, 81611
CATEGORIES:Community Event
ATTACH;FMTTYPE=image/jpeg:https://headq.org/wp-content/uploads/2024/09/Chapel-Meditation-scaled.jpg
END:VEVENT
BEGIN:VEVENT
DTSTART;TZID=America/Denver:20261117T083000
DTEND;TZID=America/Denver:20261117T093000
DTSTAMP:20260420T171947
CREATED:20240305T185429Z
LAST-MODIFIED:20240726T220456Z
UID:10000876-1794904200-1794907800@headq.org
SUMMARY:Meditation - The Gallery Zendo at the Aspen Chapel
DESCRIPTION:A weekly meditation class with Nicholas Vesey\, with instruction in the Zen Tradition.
URL:https://headq.org/event/meditation-the-gallery-zendo-at-the-aspen-chapel/2026-11-17/
LOCATION:Aspen Chapel\, 77 Meadowood Drive\, Aspen\, CO\, 81611
CATEGORIES:Community Event
ATTACH;FMTTYPE=image/png:https://headq.org/wp-content/uploads/2024/02/Meditation-Ad.png
END:VEVENT
BEGIN:VEVENT
DTSTART;TZID=America/Denver:20261117T174500
DTEND;TZID=America/Denver:20261117T191500
DTSTAMP:20260420T171947
CREATED:20241002T172116Z
LAST-MODIFIED:20241002T220518Z
UID:10002801-1794937500-1794942900@headq.org
SUMMARY:Sri Vidya Tantra Yoga & Meditation Class
DESCRIPTION:Taught by the Mother-Daughter Team\, Mimi Hauenstein and Mary Cate Hauenstein \nExperience a transformative yoga and meditation class rooted in the ancient Sri Vidya Tantra yoga lineage. Led by the mother-daughter duo\, Mimi and Mary Cate\, this class takes place in the serene golden light of the Aspen Chapel sanctuary\, creating a peaceful and sacred atmosphere. Suitable for all levels\, it’s a unique opportunity to deepen your connection to yourself through the timeless wisdom of Sri Vidya Tantra. \nAll props are provided\, all are welcome.\n$10 Suggested Donation
URL:https://headq.org/event/sri-vidya-tantra-yoga-meditation-class/2026-11-17/
LOCATION:Aspen Chapel\, 77 Meadowood Drive\, Aspen\, CO\, 81611
CATEGORIES:Community Event
ATTACH;FMTTYPE=image/jpeg:https://headq.org/wp-content/uploads/2024/09/Chapel-Meditation-scaled.jpg
END:VEVENT
BEGIN:VEVENT
DTSTART;TZID=America/Denver:20261124T083000
DTEND;TZID=America/Denver:20261124T093000
DTSTAMP:20260420T171947
CREATED:20240305T185429Z
LAST-MODIFIED:20240726T220456Z
UID:10000877-1795509000-1795512600@headq.org
SUMMARY:Meditation - The Gallery Zendo at the Aspen Chapel
DESCRIPTION:A weekly meditation class with Nicholas Vesey\, with instruction in the Zen Tradition.
URL:https://headq.org/event/meditation-the-gallery-zendo-at-the-aspen-chapel/2026-11-24/
LOCATION:Aspen Chapel\, 77 Meadowood Drive\, Aspen\, CO\, 81611
CATEGORIES:Community Event
ATTACH;FMTTYPE=image/png:https://headq.org/wp-content/uploads/2024/02/Meditation-Ad.png
END:VEVENT
BEGIN:VEVENT
DTSTART;TZID=America/Denver:20261124T174500
DTEND;TZID=America/Denver:20261124T191500
DTSTAMP:20260420T171947
CREATED:20241002T172116Z
LAST-MODIFIED:20241002T220518Z
UID:10002802-1795542300-1795547700@headq.org
SUMMARY:Sri Vidya Tantra Yoga & Meditation Class
DESCRIPTION:Taught by the Mother-Daughter Team\, Mimi Hauenstein and Mary Cate Hauenstein \nExperience a transformative yoga and meditation class rooted in the ancient Sri Vidya Tantra yoga lineage. Led by the mother-daughter duo\, Mimi and Mary Cate\, this class takes place in the serene golden light of the Aspen Chapel sanctuary\, creating a peaceful and sacred atmosphere. Suitable for all levels\, it’s a unique opportunity to deepen your connection to yourself through the timeless wisdom of Sri Vidya Tantra. \nAll props are provided\, all are welcome.\n$10 Suggested Donation
URL:https://headq.org/event/sri-vidya-tantra-yoga-meditation-class/2026-11-24/
LOCATION:Aspen Chapel\, 77 Meadowood Drive\, Aspen\, CO\, 81611
CATEGORIES:Community Event
ATTACH;FMTTYPE=image/jpeg:https://headq.org/wp-content/uploads/2024/09/Chapel-Meditation-scaled.jpg
END:VEVENT
BEGIN:VEVENT
DTSTART;TZID=America/Denver:20261201T083000
DTEND;TZID=America/Denver:20261201T093000
DTSTAMP:20260420T171947
CREATED:20240305T185429Z
LAST-MODIFIED:20240726T220456Z
UID:10000878-1796113800-1796117400@headq.org
SUMMARY:Meditation - The Gallery Zendo at the Aspen Chapel
DESCRIPTION:A weekly meditation class with Nicholas Vesey\, with instruction in the Zen Tradition.
URL:https://headq.org/event/meditation-the-gallery-zendo-at-the-aspen-chapel/2026-12-01/
LOCATION:Aspen Chapel\, 77 Meadowood Drive\, Aspen\, CO\, 81611
CATEGORIES:Community Event
ATTACH;FMTTYPE=image/png:https://headq.org/wp-content/uploads/2024/02/Meditation-Ad.png
END:VEVENT
BEGIN:VEVENT
DTSTART;TZID=America/Denver:20261201T174500
DTEND;TZID=America/Denver:20261201T191500
DTSTAMP:20260420T171947
CREATED:20241002T172116Z
LAST-MODIFIED:20241002T220518Z
UID:10002803-1796147100-1796152500@headq.org
SUMMARY:Sri Vidya Tantra Yoga & Meditation Class
DESCRIPTION:Taught by the Mother-Daughter Team\, Mimi Hauenstein and Mary Cate Hauenstein \nExperience a transformative yoga and meditation class rooted in the ancient Sri Vidya Tantra yoga lineage. Led by the mother-daughter duo\, Mimi and Mary Cate\, this class takes place in the serene golden light of the Aspen Chapel sanctuary\, creating a peaceful and sacred atmosphere. Suitable for all levels\, it’s a unique opportunity to deepen your connection to yourself through the timeless wisdom of Sri Vidya Tantra. \nAll props are provided\, all are welcome.\n$10 Suggested Donation
URL:https://headq.org/event/sri-vidya-tantra-yoga-meditation-class/2026-12-01/
LOCATION:Aspen Chapel\, 77 Meadowood Drive\, Aspen\, CO\, 81611
CATEGORIES:Community Event
ATTACH;FMTTYPE=image/jpeg:https://headq.org/wp-content/uploads/2024/09/Chapel-Meditation-scaled.jpg
END:VEVENT
END:VCALENDAR