BEGIN:VCALENDAR
VERSION:2.0
PRODID:-//HeadQuarters - ECPv6.15.1.1//NONSGML v1.0//EN
CALSCALE:GREGORIAN
METHOD:PUBLISH
X-ORIGINAL-URL:https://headq.org
X-WR-CALDESC:Events for HeadQuarters
REFRESH-INTERVAL;VALUE=DURATION:PT1H
X-Robots-Tag:noindex
X-PUBLISHED-TTL:PT1H
BEGIN:VTIMEZONE
TZID:America/Denver
BEGIN:DAYLIGHT
TZOFFSETFROM:-0700
TZOFFSETTO:-0600
TZNAME:MDT
DTSTART:20240310T090000
END:DAYLIGHT
BEGIN:STANDARD
TZOFFSETFROM:-0600
TZOFFSETTO:-0700
TZNAME:MST
DTSTART:20241103T080000
END:STANDARD
END:VTIMEZONE
BEGIN:VEVENT
DTSTART;TZID=America/Denver:20241105T183000
DTEND;TZID=America/Denver:20241105T200000
DTSTAMP:20260419T135726
CREATED:20241002T164426Z
LAST-MODIFIED:20241028T205500Z
UID:10002164-1730831400-1730836800@headq.org
SUMMARY:Men of Depth - Fall 2024
DESCRIPTION:Men of Depth is a group for men intent upon leaving the world better than we found it. In a container of trust and challenge\, we help each other align with our authenticity\, purpose\, and service. \nIn Men of Depth\, you will… \n– Be called in\, called forth\, challenged\, and supported by a group of quality men. \n– Be held to a high standard of intention\, communication\, and follow-through. \n– Practice & sharpen your communication and emotional regulation skills. \n– Receive guidance and accountability for discovering and aligning with your core values. \n– Increase your capacity to focus on what matters most in life. \n– Learn to connect to the intelligence of your body and intuition.
URL:https://headq.org/event/men-of-depth-fall-2024/2024-11-05/
LOCATION:Ripple Effect Training\, 2551 Dolores Way\, Carbondale\, CO\, 81623
CATEGORIES:Community Event
ATTACH;FMTTYPE=image/png:https://headq.org/wp-content/uploads/2024/09/IMG-7129.png
END:VEVENT
BEGIN:VEVENT
DTSTART;TZID=America/Denver:20241029T183000
DTEND;TZID=America/Denver:20241029T200000
DTSTAMP:20260419T135726
CREATED:20241002T164426Z
LAST-MODIFIED:20241028T205500Z
UID:10002163-1730226600-1730232000@headq.org
SUMMARY:Men of Depth - Fall 2024
DESCRIPTION:Men of Depth is a group for men intent upon leaving the world better than we found it. In a container of trust and challenge\, we help each other align with our authenticity\, purpose\, and service. \nIn Men of Depth\, you will… \n– Be called in\, called forth\, challenged\, and supported by a group of quality men. \n– Be held to a high standard of intention\, communication\, and follow-through. \n– Practice & sharpen your communication and emotional regulation skills. \n– Receive guidance and accountability for discovering and aligning with your core values. \n– Increase your capacity to focus on what matters most in life. \n– Learn to connect to the intelligence of your body and intuition.
URL:https://headq.org/event/men-of-depth-fall-2024/2024-10-29/
LOCATION:Ripple Effect Training\, 2551 Dolores Way\, Carbondale\, CO\, 81623
CATEGORIES:Community Event
ATTACH;FMTTYPE=image/png:https://headq.org/wp-content/uploads/2024/09/IMG-7129.png
END:VEVENT
BEGIN:VEVENT
DTSTART;TZID=America/Denver:20241022T183000
DTEND;TZID=America/Denver:20241022T200000
DTSTAMP:20260419T135726
CREATED:20241002T164426Z
LAST-MODIFIED:20241028T205500Z
UID:10002162-1729621800-1729627200@headq.org
SUMMARY:Men of Depth - Fall 2024
DESCRIPTION:Men of Depth is a group for men intent upon leaving the world better than we found it. In a container of trust and challenge\, we help each other align with our authenticity\, purpose\, and service. \nIn Men of Depth\, you will… \n– Be called in\, called forth\, challenged\, and supported by a group of quality men. \n– Be held to a high standard of intention\, communication\, and follow-through. \n– Practice & sharpen your communication and emotional regulation skills. \n– Receive guidance and accountability for discovering and aligning with your core values. \n– Increase your capacity to focus on what matters most in life. \n– Learn to connect to the intelligence of your body and intuition.
URL:https://headq.org/event/men-of-depth-fall-2024/2024-10-22/
LOCATION:Ripple Effect Training\, 2551 Dolores Way\, Carbondale\, CO\, 81623
CATEGORIES:Community Event
ATTACH;FMTTYPE=image/png:https://headq.org/wp-content/uploads/2024/09/IMG-7129.png
END:VEVENT
BEGIN:VEVENT
DTSTART;TZID=America/Denver:20241015T183000
DTEND;TZID=America/Denver:20241015T200000
DTSTAMP:20260419T135726
CREATED:20241002T164426Z
LAST-MODIFIED:20241028T205500Z
UID:10002161-1729017000-1729022400@headq.org
SUMMARY:Men of Depth - Fall 2024
DESCRIPTION:Men of Depth is a group for men intent upon leaving the world better than we found it. In a container of trust and challenge\, we help each other align with our authenticity\, purpose\, and service. \nIn Men of Depth\, you will… \n– Be called in\, called forth\, challenged\, and supported by a group of quality men. \n– Be held to a high standard of intention\, communication\, and follow-through. \n– Practice & sharpen your communication and emotional regulation skills. \n– Receive guidance and accountability for discovering and aligning with your core values. \n– Increase your capacity to focus on what matters most in life. \n– Learn to connect to the intelligence of your body and intuition.
URL:https://headq.org/event/men-of-depth-fall-2024/2024-10-15/
LOCATION:Ripple Effect Training\, 2551 Dolores Way\, Carbondale\, CO\, 81623
CATEGORIES:Community Event
ATTACH;FMTTYPE=image/png:https://headq.org/wp-content/uploads/2024/09/IMG-7129.png
END:VEVENT
BEGIN:VEVENT
DTSTART;TZID=America/Denver:20241008T183000
DTEND;TZID=America/Denver:20241008T200000
DTSTAMP:20260419T135726
CREATED:20241002T164426Z
LAST-MODIFIED:20241028T205500Z
UID:10002160-1728412200-1728417600@headq.org
SUMMARY:Men of Depth - Fall 2024
DESCRIPTION:Men of Depth is a group for men intent upon leaving the world better than we found it. In a container of trust and challenge\, we help each other align with our authenticity\, purpose\, and service. \nIn Men of Depth\, you will… \n– Be called in\, called forth\, challenged\, and supported by a group of quality men. \n– Be held to a high standard of intention\, communication\, and follow-through. \n– Practice & sharpen your communication and emotional regulation skills. \n– Receive guidance and accountability for discovering and aligning with your core values. \n– Increase your capacity to focus on what matters most in life. \n– Learn to connect to the intelligence of your body and intuition.
URL:https://headq.org/event/men-of-depth-fall-2024/2024-10-08/
LOCATION:Ripple Effect Training\, 2551 Dolores Way\, Carbondale\, CO\, 81623
CATEGORIES:Community Event
ATTACH;FMTTYPE=image/png:https://headq.org/wp-content/uploads/2024/09/IMG-7129.png
END:VEVENT
BEGIN:VEVENT
DTSTART;TZID=America/Denver:20241001T183000
DTEND;TZID=America/Denver:20241001T200000
DTSTAMP:20260419T135726
CREATED:20241002T164426Z
LAST-MODIFIED:20241028T205500Z
UID:10002159-1727807400-1727812800@headq.org
SUMMARY:Men of Depth - Fall 2024
DESCRIPTION:Men of Depth is a group for men intent upon leaving the world better than we found it. In a container of trust and challenge\, we help each other align with our authenticity\, purpose\, and service. \nIn Men of Depth\, you will… \n– Be called in\, called forth\, challenged\, and supported by a group of quality men. \n– Be held to a high standard of intention\, communication\, and follow-through. \n– Practice & sharpen your communication and emotional regulation skills. \n– Receive guidance and accountability for discovering and aligning with your core values. \n– Increase your capacity to focus on what matters most in life. \n– Learn to connect to the intelligence of your body and intuition.
URL:https://headq.org/event/men-of-depth-fall-2024/2024-10-01/
LOCATION:Ripple Effect Training\, 2551 Dolores Way\, Carbondale\, CO\, 81623
CATEGORIES:Community Event
ATTACH;FMTTYPE=image/png:https://headq.org/wp-content/uploads/2024/09/IMG-7129.png
END:VEVENT
END:VCALENDAR