BEGIN:VCALENDAR
VERSION:2.0
PRODID:-//HeadQuarters - ECPv6.15.1.1//NONSGML v1.0//EN
CALSCALE:GREGORIAN
METHOD:PUBLISH
X-WR-CALNAME:HeadQuarters
X-ORIGINAL-URL:https://headq.org
X-WR-CALDESC:Events for HeadQuarters
REFRESH-INTERVAL;VALUE=DURATION:PT1H
X-Robots-Tag:noindex
X-PUBLISHED-TTL:PT1H
BEGIN:VTIMEZONE
TZID:America/Denver
BEGIN:DAYLIGHT
TZOFFSETFROM:-0700
TZOFFSETTO:-0600
TZNAME:MDT
DTSTART:20240310T090000
END:DAYLIGHT
BEGIN:STANDARD
TZOFFSETFROM:-0600
TZOFFSETTO:-0700
TZNAME:MST
DTSTART:20241103T080000
END:STANDARD
END:VTIMEZONE
BEGIN:VEVENT
DTSTART;TZID=America/Denver:20240928T093000
DTEND;TZID=America/Denver:20240928T123000
DTSTAMP:20260419T063344
CREATED:20240821T192139Z
LAST-MODIFIED:20240821T192139Z
UID:10001873-1727515800-1727526600@headq.org
SUMMARY:Honoring grief with the wisdom of the herd
DESCRIPTION:Join Laura Irmen\, LMFT\, a Pathfinders grief therapist\, and Sheri Gaynor\, LCSW\, an advanced eponaquest instructor and registered art therapist\, at Windwalkers for a day of honoring grief (loss of a loved one) Ages 18 and up \nSuggested donation of $75 to Pathfinders. Scholarships available as needed.
URL:https://headq.org/event/honoring-grief-with-the-wisdom-of-the-herd/
LOCATION:windwalkers
CATEGORIES:Community Event
END:VEVENT
END:VCALENDAR